BEGIN:VCALENDAR
VERSION:2.0
PRODID:-//Pelham Library - ECPv6.15.20//NONSGML v1.0//EN
CALSCALE:GREGORIAN
METHOD:PUBLISH
X-ORIGINAL-URL:https://www.pelham-library.net
X-WR-CALDESC:Events for Pelham Library
REFRESH-INTERVAL;VALUE=DURATION:PT1H
X-Robots-Tag:noindex
X-PUBLISHED-TTL:PT1H
BEGIN:VTIMEZONE
TZID:America/New_York
BEGIN:DAYLIGHT
TZOFFSETFROM:-0500
TZOFFSETTO:-0400
TZNAME:EDT
DTSTART:20230312T070000
END:DAYLIGHT
BEGIN:STANDARD
TZOFFSETFROM:-0400
TZOFFSETTO:-0500
TZNAME:EST
DTSTART:20231105T060000
END:STANDARD
BEGIN:DAYLIGHT
TZOFFSETFROM:-0500
TZOFFSETTO:-0400
TZNAME:EDT
DTSTART:20240310T070000
END:DAYLIGHT
BEGIN:STANDARD
TZOFFSETFROM:-0400
TZOFFSETTO:-0500
TZNAME:EST
DTSTART:20241103T060000
END:STANDARD
BEGIN:DAYLIGHT
TZOFFSETFROM:-0500
TZOFFSETTO:-0400
TZNAME:EDT
DTSTART:20250309T070000
END:DAYLIGHT
BEGIN:STANDARD
TZOFFSETFROM:-0400
TZOFFSETTO:-0500
TZNAME:EST
DTSTART:20251102T060000
END:STANDARD
BEGIN:DAYLIGHT
TZOFFSETFROM:-0500
TZOFFSETTO:-0400
TZNAME:EDT
DTSTART:20260308T070000
END:DAYLIGHT
BEGIN:STANDARD
TZOFFSETFROM:-0400
TZOFFSETTO:-0500
TZNAME:EST
DTSTART:20261101T060000
END:STANDARD
BEGIN:DAYLIGHT
TZOFFSETFROM:-0500
TZOFFSETTO:-0400
TZNAME:EDT
DTSTART:20270314T070000
END:DAYLIGHT
BEGIN:STANDARD
TZOFFSETFROM:-0400
TZOFFSETTO:-0500
TZNAME:EST
DTSTART:20271107T060000
END:STANDARD
END:VTIMEZONE
BEGIN:VEVENT
DTSTART;VALUE=DATE:20241014
DTEND;VALUE=DATE:20241015
DTSTAMP:20260425T133611
CREATED:20240912T202124Z
LAST-MODIFIED:20240912T202124Z
UID:10005293-1728864000-1728950399@www.pelham-library.net
SUMMARY:CLOSED: Indigenous Peoples Day
DESCRIPTION:
URL:https://www.pelham-library.net/event/closed-indigenous-peoples-day/
LOCATION:Pelham Library\, 2 South Valley Road \, Pelham\, MA\, 01002\, United States
CATEGORIES:Closed
END:VEVENT
BEGIN:VEVENT
DTSTART;VALUE=DATE:20241111
DTEND;VALUE=DATE:20241112
DTSTAMP:20260425T133611
CREATED:20240912T202229Z
LAST-MODIFIED:20240912T202229Z
UID:10005294-1731283200-1731369599@www.pelham-library.net
SUMMARY:CLOSED: Veterans Day
DESCRIPTION:
URL:https://www.pelham-library.net/event/closed-veterans-day/
LOCATION:Pelham Library\, 2 South Valley Road \, Pelham\, MA\, 01002\, United States
CATEGORIES:Closed
END:VEVENT
BEGIN:VEVENT
DTSTART;VALUE=DATE:20241128
DTEND;VALUE=DATE:20241130
DTSTAMP:20260425T133611
CREATED:20240912T202328Z
LAST-MODIFIED:20240912T202328Z
UID:10005295-1732752000-1732924799@www.pelham-library.net
SUMMARY:CLOSED: Thanksgiving
DESCRIPTION:
URL:https://www.pelham-library.net/event/closed-thanksgiving/
LOCATION:Pelham Library\, 2 South Valley Road \, Pelham\, MA\, 01002\, United States
CATEGORIES:Closed
END:VEVENT
BEGIN:VEVENT
DTSTART;VALUE=DATE:20241224
DTEND;VALUE=DATE:20241225
DTSTAMP:20260425T133611
CREATED:20181106T204426Z
LAST-MODIFIED:20190123T044011Z
UID:10005072-1734998400-1735084799@www.pelham-library.net
SUMMARY:CLOSED: CHRISTMAS EVE
DESCRIPTION:To allow our staff to spend time with their families we will be closed this evening.
URL:https://www.pelham-library.net/event/closed-christmas-eve/2024-12-24/
LOCATION:Pelham Library\, 2 South Valley Road \, Pelham\, MA\, 01002\, United States
CATEGORIES:Closed
END:VEVENT
BEGIN:VEVENT
DTSTART;VALUE=DATE:20241231
DTEND;VALUE=DATE:20250101
DTSTAMP:20260425T133611
CREATED:20240912T203059Z
LAST-MODIFIED:20240912T203059Z
UID:10005301-1735603200-1735689599@www.pelham-library.net
SUMMARY:CLOSED: New Years Eve
DESCRIPTION:
URL:https://www.pelham-library.net/event/closed-new-years-eve/
LOCATION:Pelham Library\, 2 South Valley Road \, Pelham\, MA\, 01002\, United States
CATEGORIES:Closed
END:VEVENT
BEGIN:VEVENT
DTSTART;VALUE=DATE:20250101
DTEND;VALUE=DATE:20250102
DTSTAMP:20260425T133611
CREATED:20171220T033157Z
LAST-MODIFIED:20220908T203149Z
UID:10005064-1735689600-1735775999@www.pelham-library.net
SUMMARY:CLOSED: New Year's Day
DESCRIPTION:The Library will be CLOSED today. Happy New Year!
URL:https://www.pelham-library.net/event/closed-new-years-day/2025-01-01/
LOCATION:Pelham Library\, 2 South Valley Road \, Pelham\, MA\, 01002\, United States
CATEGORIES:Closed
END:VEVENT
BEGIN:VEVENT
DTSTART;VALUE=DATE:20250120
DTEND;VALUE=DATE:20250121
DTSTAMP:20260425T133611
CREATED:20240912T203218Z
LAST-MODIFIED:20240912T203218Z
UID:10005302-1737331200-1737417599@www.pelham-library.net
SUMMARY:CLOSED: MLK Day
DESCRIPTION:
URL:https://www.pelham-library.net/event/closed-mlk-day/
LOCATION:Pelham Library\, 2 South Valley Road \, Pelham\, MA\, 01002\, United States
CATEGORIES:Closed
END:VEVENT
BEGIN:VEVENT
DTSTART;VALUE=DATE:20250217
DTEND;VALUE=DATE:20250218
DTSTAMP:20260425T133611
CREATED:20240912T204014Z
LAST-MODIFIED:20240912T204014Z
UID:10005304-1739750400-1739836799@www.pelham-library.net
SUMMARY:CLOSED: Presidents Day
DESCRIPTION:
URL:https://www.pelham-library.net/event/closed-presidents-day/
LOCATION:Pelham Library\, 2 South Valley Road \, Pelham\, MA\, 01002\, United States
CATEGORIES:Closed
END:VEVENT
BEGIN:VEVENT
DTSTART;VALUE=DATE:20250421
DTEND;VALUE=DATE:20250422
DTSTAMP:20260425T133611
CREATED:20240912T203705Z
LAST-MODIFIED:20240912T203705Z
UID:10005303-1745193600-1745279999@www.pelham-library.net
SUMMARY:CLOSED: Patriots Day
DESCRIPTION:
URL:https://www.pelham-library.net/event/closed-patriots-day/
LOCATION:Pelham Library\, 2 South Valley Road \, Pelham\, MA\, 01002\, United States
CATEGORIES:Closed
END:VEVENT
BEGIN:VEVENT
DTSTART;VALUE=DATE:20250526
DTEND;VALUE=DATE:20250527
DTSTAMP:20260425T133611
CREATED:20240912T204112Z
LAST-MODIFIED:20240912T204112Z
UID:10005305-1748217600-1748303999@www.pelham-library.net
SUMMARY:CLOSED: Memorial Day
DESCRIPTION:
URL:https://www.pelham-library.net/event/closed-memorial-day/
LOCATION:Pelham Library\, 2 South Valley Road \, Pelham\, MA\, 01002\, United States
CATEGORIES:Closed
END:VEVENT
BEGIN:VEVENT
DTSTART;VALUE=DATE:20250619
DTEND;VALUE=DATE:20250620
DTSTAMP:20260425T133612
CREATED:20240912T204225Z
LAST-MODIFIED:20240912T204225Z
UID:10005306-1750291200-1750377599@www.pelham-library.net
SUMMARY:CLOSED: Juneteenth
DESCRIPTION:
URL:https://www.pelham-library.net/event/closed-juneteenth/2025-06-19/
LOCATION:Pelham Library\, 2 South Valley Road \, Pelham\, MA\, 01002\, United States
CATEGORIES:Closed
END:VEVENT
BEGIN:VEVENT
DTSTART;VALUE=DATE:20250704
DTEND;VALUE=DATE:20250705
DTSTAMP:20260425T133612
CREATED:20240912T204355Z
LAST-MODIFIED:20240912T204355Z
UID:10005311-1751587200-1751673599@www.pelham-library.net
SUMMARY:CLOSED July 4
DESCRIPTION:
URL:https://www.pelham-library.net/event/closed-july-4/2025-07-04/
LOCATION:Pelham Library\, 2 South Valley Road \, Pelham\, MA\, 01002\, United States
CATEGORIES:Closed
END:VEVENT
BEGIN:VEVENT
DTSTART;VALUE=DATE:20251224
DTEND;VALUE=DATE:20251225
DTSTAMP:20260425T133612
CREATED:20181106T204426Z
LAST-MODIFIED:20190123T044011Z
UID:10005073-1766534400-1766620799@www.pelham-library.net
SUMMARY:CLOSED: CHRISTMAS EVE
DESCRIPTION:To allow our staff to spend time with their families we will be closed this evening.
URL:https://www.pelham-library.net/event/closed-christmas-eve/2025-12-24/
LOCATION:Pelham Library\, 2 South Valley Road \, Pelham\, MA\, 01002\, United States
CATEGORIES:Closed
END:VEVENT
BEGIN:VEVENT
DTSTART;VALUE=DATE:20251225
DTEND;VALUE=DATE:20251226
DTSTAMP:20260425T133612
CREATED:20240912T202453Z
LAST-MODIFIED:20240912T202453Z
UID:10005297-1766620800-1766707199@www.pelham-library.net
SUMMARY:CLOSED: Christmas
DESCRIPTION:
URL:https://www.pelham-library.net/event/closed-christmas/2025-12-25/
LOCATION:Pelham Library\, 2 South Valley Road \, Pelham\, MA\, 01002\, United States
CATEGORIES:Closed
END:VEVENT
BEGIN:VEVENT
DTSTART;VALUE=DATE:20260101
DTEND;VALUE=DATE:20260102
DTSTAMP:20260425T133612
CREATED:20171220T033157Z
LAST-MODIFIED:20220908T203149Z
UID:10005065-1767225600-1767311999@www.pelham-library.net
SUMMARY:CLOSED: New Year's Day
DESCRIPTION:The Library will be CLOSED today. Happy New Year!
URL:https://www.pelham-library.net/event/closed-new-years-day/2026-01-01/
LOCATION:Pelham Library\, 2 South Valley Road \, Pelham\, MA\, 01002\, United States
CATEGORIES:Closed
END:VEVENT
END:VCALENDAR