BEGIN:VCALENDAR
VERSION:2.0
PRODID:-//Pelham Library - ECPv6.15.20//NONSGML v1.0//EN
CALSCALE:GREGORIAN
METHOD:PUBLISH
X-ORIGINAL-URL:https://www.pelham-library.net
X-WR-CALDESC:Events for Pelham Library
REFRESH-INTERVAL;VALUE=DURATION:PT1H
X-Robots-Tag:noindex
X-PUBLISHED-TTL:PT1H
BEGIN:VTIMEZONE
TZID:America/New_York
BEGIN:DAYLIGHT
TZOFFSETFROM:-0500
TZOFFSETTO:-0400
TZNAME:EDT
DTSTART:20250309T070000
END:DAYLIGHT
BEGIN:STANDARD
TZOFFSETFROM:-0400
TZOFFSETTO:-0500
TZNAME:EST
DTSTART:20251102T060000
END:STANDARD
BEGIN:DAYLIGHT
TZOFFSETFROM:-0500
TZOFFSETTO:-0400
TZNAME:EDT
DTSTART:20260308T070000
END:DAYLIGHT
BEGIN:STANDARD
TZOFFSETFROM:-0400
TZOFFSETTO:-0500
TZNAME:EST
DTSTART:20261101T060000
END:STANDARD
BEGIN:DAYLIGHT
TZOFFSETFROM:-0500
TZOFFSETTO:-0400
TZNAME:EDT
DTSTART:20270314T070000
END:DAYLIGHT
BEGIN:STANDARD
TZOFFSETFROM:-0400
TZOFFSETTO:-0500
TZNAME:EST
DTSTART:20271107T060000
END:STANDARD
BEGIN:DAYLIGHT
TZOFFSETFROM:-0500
TZOFFSETTO:-0400
TZNAME:EDT
DTSTART:20280312T070000
END:DAYLIGHT
BEGIN:STANDARD
TZOFFSETFROM:-0400
TZOFFSETTO:-0500
TZNAME:EST
DTSTART:20281105T060000
END:STANDARD
BEGIN:DAYLIGHT
TZOFFSETFROM:-0500
TZOFFSETTO:-0400
TZNAME:EDT
DTSTART:20290311T070000
END:DAYLIGHT
BEGIN:STANDARD
TZOFFSETFROM:-0400
TZOFFSETTO:-0500
TZNAME:EST
DTSTART:20291104T060000
END:STANDARD
BEGIN:DAYLIGHT
TZOFFSETFROM:-0500
TZOFFSETTO:-0400
TZNAME:EDT
DTSTART:20300310T070000
END:DAYLIGHT
BEGIN:STANDARD
TZOFFSETFROM:-0400
TZOFFSETTO:-0500
TZNAME:EST
DTSTART:20301103T060000
END:STANDARD
BEGIN:DAYLIGHT
TZOFFSETFROM:-0500
TZOFFSETTO:-0400
TZNAME:EDT
DTSTART:20310309T070000
END:DAYLIGHT
BEGIN:STANDARD
TZOFFSETFROM:-0400
TZOFFSETTO:-0500
TZNAME:EST
DTSTART:20311102T060000
END:STANDARD
BEGIN:DAYLIGHT
TZOFFSETFROM:-0500
TZOFFSETTO:-0400
TZNAME:EDT
DTSTART:20320314T070000
END:DAYLIGHT
BEGIN:STANDARD
TZOFFSETFROM:-0400
TZOFFSETTO:-0500
TZNAME:EST
DTSTART:20321107T060000
END:STANDARD
END:VTIMEZONE
BEGIN:VEVENT
DTSTART;VALUE=DATE:20260619
DTEND;VALUE=DATE:20260620
DTSTAMP:20260425T102426
CREATED:20240912T204225Z
LAST-MODIFIED:20240912T204225Z
UID:10005307-1781827200-1781913599@www.pelham-library.net
SUMMARY:CLOSED: Juneteenth
DESCRIPTION:
URL:https://www.pelham-library.net/event/closed-juneteenth/2026-06-19/
LOCATION:Pelham Library\, 2 South Valley Road \, Pelham\, MA\, 01002\, United States
CATEGORIES:Closed
END:VEVENT
BEGIN:VEVENT
DTSTART;TZID=America/New_York:20260620T101500
DTEND;TZID=America/New_York:20260620T113000
DTSTAMP:20260425T102426
CREATED:20260115T215837Z
LAST-MODIFIED:20260207T150517Z
UID:10005890-1781950500-1781955000@www.pelham-library.net
SUMMARY:Qigong with Rema Boscov
DESCRIPTION:Qigong (pronounced chee gong)\, an ancient energy art\, is the precursor to Tai Chi\, with a focus on health and healing. The movements\, sometimes described as moving meditation\, are simple\, graceful\, and easy to learn. Wear comfortable shoes and clothing. No mats are needed. The class\, taught by Rema Boscov\, is open to all adults and teens\, and all abilities are welcome.
URL:https://www.pelham-library.net/event/qigong-with-rema-boscov-3-2-2-2/2026-06-20/
LOCATION:Pelham Library\, 2 South Valley Road \, Pelham\, MA\, 01002\, United States
ATTACH;FMTTYPE=image/jpeg:https://www.pelham-library.net/wp-content/uploads/2022/04/rema-white-bell-flowers.jpg
END:VEVENT
BEGIN:VEVENT
DTSTART;TZID=America/New_York:20260622T170000
DTEND;TZID=America/New_York:20260622T190000
DTSTAMP:20260425T102426
CREATED:20260125T062712Z
LAST-MODIFIED:20260125T062712Z
UID:10006003-1782147600-1782154800@www.pelham-library.net
SUMMARY:D&D for Neurodiverse Young Adults
DESCRIPTION:This weekly Dungeons & Dragons game is run by and for autistic and similarly neurodivergent young adults (post-high school age). The group is currently full\, but if you’re interested in joining get in touch and we’ll let you know when space is available. Participants are invited to come for an informal hang-out starting at 3:00. The game starts at 5.
URL:https://www.pelham-library.net/event/dd-for-neurodiverse-young-adults-2/2026-06-22/
LOCATION:Pelham Library\, 2 South Valley Road \, Pelham\, MA\, 01002\, United States
ATTACH;FMTTYPE=image/jpeg:https://www.pelham-library.net/wp-content/uploads/2024/03/d20-neurodivergent.jpg
END:VEVENT
BEGIN:VEVENT
DTSTART;VALUE=DATE:20260704
DTEND;VALUE=DATE:20260705
DTSTAMP:20260425T102426
CREATED:20240912T204355Z
LAST-MODIFIED:20240912T204355Z
UID:10005312-1783123200-1783209599@www.pelham-library.net
SUMMARY:CLOSED July 4
DESCRIPTION:
URL:https://www.pelham-library.net/event/closed-july-4/2026-07-04/
LOCATION:Pelham Library\, 2 South Valley Road \, Pelham\, MA\, 01002\, United States
CATEGORIES:Closed
END:VEVENT
BEGIN:VEVENT
DTSTART;TZID=America/New_York:20260713T143000
DTEND;TZID=America/New_York:20260713T153000
DTSTAMP:20260425T102426
CREATED:20240912T201305Z
LAST-MODIFIED:20260204T215402Z
UID:10006041-1783953000-1783956600@www.pelham-library.net
SUMMARY:State Rep. Aaron Saunders Open Office Hours
DESCRIPTION:Come meet your state representative. Bring your questions and concerns.
URL:https://www.pelham-library.net/event/state-rep-aaron-saunders-open-office-hours-2-copy-copy-copy-2/2026-07-13/
LOCATION:Pelham Library\, 2 South Valley Road \, Pelham\, MA\, 01002\, United States
ATTACH;FMTTYPE=image/jpeg:https://www.pelham-library.net/wp-content/uploads/2023/06/aaron-saunders.jpg
END:VEVENT
BEGIN:VEVENT
DTSTART;VALUE=DATE:20261224
DTEND;VALUE=DATE:20261225
DTSTAMP:20260425T102426
CREATED:20181106T204426Z
LAST-MODIFIED:20190123T044011Z
UID:10005074-1798070400-1798156799@www.pelham-library.net
SUMMARY:CLOSED: CHRISTMAS EVE
DESCRIPTION:To allow our staff to spend time with their families we will be closed this evening.
URL:https://www.pelham-library.net/event/closed-christmas-eve/2026-12-24/
LOCATION:Pelham Library\, 2 South Valley Road \, Pelham\, MA\, 01002\, United States
CATEGORIES:Closed
END:VEVENT
BEGIN:VEVENT
DTSTART;VALUE=DATE:20261225
DTEND;VALUE=DATE:20261226
DTSTAMP:20260425T102426
CREATED:20240912T202453Z
LAST-MODIFIED:20240912T202453Z
UID:10005298-1798156800-1798243199@www.pelham-library.net
SUMMARY:CLOSED: Christmas
DESCRIPTION:
URL:https://www.pelham-library.net/event/closed-christmas/2026-12-25/
LOCATION:Pelham Library\, 2 South Valley Road \, Pelham\, MA\, 01002\, United States
CATEGORIES:Closed
END:VEVENT
BEGIN:VEVENT
DTSTART;VALUE=DATE:20270101
DTEND;VALUE=DATE:20270102
DTSTAMP:20260425T102426
CREATED:20171220T033157Z
LAST-MODIFIED:20220908T203149Z
UID:10005066-1798761600-1798847999@www.pelham-library.net
SUMMARY:CLOSED: New Year's Day
DESCRIPTION:The Library will be CLOSED today. Happy New Year!
URL:https://www.pelham-library.net/event/closed-new-years-day/2027-01-01/
LOCATION:Pelham Library\, 2 South Valley Road \, Pelham\, MA\, 01002\, United States
CATEGORIES:Closed
END:VEVENT
BEGIN:VEVENT
DTSTART;VALUE=DATE:20271224
DTEND;VALUE=DATE:20271225
DTSTAMP:20260425T102426
CREATED:20181106T204426Z
LAST-MODIFIED:20190123T044011Z
UID:10005075-1829606400-1829692799@www.pelham-library.net
SUMMARY:CLOSED: CHRISTMAS EVE
DESCRIPTION:To allow our staff to spend time with their families we will be closed this evening.
URL:https://www.pelham-library.net/event/closed-christmas-eve/2027-12-24/
LOCATION:Pelham Library\, 2 South Valley Road \, Pelham\, MA\, 01002\, United States
CATEGORIES:Closed
END:VEVENT
BEGIN:VEVENT
DTSTART;VALUE=DATE:20280101
DTEND;VALUE=DATE:20280102
DTSTAMP:20260425T102426
CREATED:20171220T033157Z
LAST-MODIFIED:20220908T203149Z
UID:10005067-1830297600-1830383999@www.pelham-library.net
SUMMARY:CLOSED: New Year's Day
DESCRIPTION:The Library will be CLOSED today. Happy New Year!
URL:https://www.pelham-library.net/event/closed-new-years-day/2028-01-01/
LOCATION:Pelham Library\, 2 South Valley Road \, Pelham\, MA\, 01002\, United States
CATEGORIES:Closed
END:VEVENT
BEGIN:VEVENT
DTSTART;VALUE=DATE:20281224
DTEND;VALUE=DATE:20281225
DTSTAMP:20260425T102426
CREATED:20181106T204426Z
LAST-MODIFIED:20190123T044011Z
UID:10005076-1861228800-1861315199@www.pelham-library.net
SUMMARY:CLOSED: CHRISTMAS EVE
DESCRIPTION:To allow our staff to spend time with their families we will be closed this evening.
URL:https://www.pelham-library.net/event/closed-christmas-eve/2028-12-24/
LOCATION:Pelham Library\, 2 South Valley Road \, Pelham\, MA\, 01002\, United States
CATEGORIES:Closed
END:VEVENT
BEGIN:VEVENT
DTSTART;VALUE=DATE:20290101
DTEND;VALUE=DATE:20290102
DTSTAMP:20260425T102426
CREATED:20171220T033157Z
LAST-MODIFIED:20220908T203149Z
UID:10005068-1861920000-1862006399@www.pelham-library.net
SUMMARY:CLOSED: New Year's Day
DESCRIPTION:The Library will be CLOSED today. Happy New Year!
URL:https://www.pelham-library.net/event/closed-new-years-day/2029-01-01/
LOCATION:Pelham Library\, 2 South Valley Road \, Pelham\, MA\, 01002\, United States
CATEGORIES:Closed
END:VEVENT
BEGIN:VEVENT
DTSTART;VALUE=DATE:20291224
DTEND;VALUE=DATE:20291225
DTSTAMP:20260425T102426
CREATED:20181106T204426Z
LAST-MODIFIED:20190123T044011Z
UID:10005489-1892764800-1892851199@www.pelham-library.net
SUMMARY:CLOSED: CHRISTMAS EVE
DESCRIPTION:To allow our staff to spend time with their families we will be closed this evening.
URL:https://www.pelham-library.net/event/closed-christmas-eve/2029-12-24/
LOCATION:Pelham Library\, 2 South Valley Road \, Pelham\, MA\, 01002\, United States
CATEGORIES:Closed
END:VEVENT
BEGIN:VEVENT
DTSTART;VALUE=DATE:20300101
DTEND;VALUE=DATE:20300102
DTSTAMP:20260425T102426
CREATED:20171220T033157Z
LAST-MODIFIED:20220908T203149Z
UID:10005895-1893456000-1893542399@www.pelham-library.net
SUMMARY:CLOSED: New Year's Day
DESCRIPTION:The Library will be CLOSED today. Happy New Year!
URL:https://www.pelham-library.net/event/closed-new-years-day/2030-01-01/
LOCATION:Pelham Library\, 2 South Valley Road \, Pelham\, MA\, 01002\, United States
CATEGORIES:Closed
END:VEVENT
BEGIN:VEVENT
DTSTART;VALUE=DATE:20301224
DTEND;VALUE=DATE:20301225
DTSTAMP:20260425T102426
CREATED:20181106T204426Z
LAST-MODIFIED:20190123T044011Z
UID:10005893-1924300800-1924387199@www.pelham-library.net
SUMMARY:CLOSED: CHRISTMAS EVE
DESCRIPTION:To allow our staff to spend time with their families we will be closed this evening.
URL:https://www.pelham-library.net/event/closed-christmas-eve/2030-12-24/
LOCATION:Pelham Library\, 2 South Valley Road \, Pelham\, MA\, 01002\, United States
CATEGORIES:Closed
END:VEVENT
BEGIN:VEVENT
DTSTART;VALUE=DATE:20310101
DTEND;VALUE=DATE:20310102
DTSTAMP:20260425T102426
CREATED:20171220T033157Z
LAST-MODIFIED:20220908T203149Z
UID:10005896-1924992000-1925078399@www.pelham-library.net
SUMMARY:CLOSED: New Year's Day
DESCRIPTION:The Library will be CLOSED today. Happy New Year!
URL:https://www.pelham-library.net/event/closed-new-years-day/2031-01-01/
LOCATION:Pelham Library\, 2 South Valley Road \, Pelham\, MA\, 01002\, United States
CATEGORIES:Closed
END:VEVENT
END:VCALENDAR