BEGIN:VCALENDAR
VERSION:2.0
PRODID:-//Pelham Library - ECPv6.15.20//NONSGML v1.0//EN
CALSCALE:GREGORIAN
METHOD:PUBLISH
X-ORIGINAL-URL:https://www.pelham-library.net
X-WR-CALDESC:Events for Pelham Library
REFRESH-INTERVAL;VALUE=DURATION:PT1H
X-Robots-Tag:noindex
X-PUBLISHED-TTL:PT1H
BEGIN:VTIMEZONE
TZID:America/New_York
BEGIN:DAYLIGHT
TZOFFSETFROM:-0500
TZOFFSETTO:-0400
TZNAME:EDT
DTSTART:20230312T070000
END:DAYLIGHT
BEGIN:STANDARD
TZOFFSETFROM:-0400
TZOFFSETTO:-0500
TZNAME:EST
DTSTART:20231105T060000
END:STANDARD
BEGIN:DAYLIGHT
TZOFFSETFROM:-0500
TZOFFSETTO:-0400
TZNAME:EDT
DTSTART:20240310T070000
END:DAYLIGHT
BEGIN:STANDARD
TZOFFSETFROM:-0400
TZOFFSETTO:-0500
TZNAME:EST
DTSTART:20241103T060000
END:STANDARD
BEGIN:DAYLIGHT
TZOFFSETFROM:-0500
TZOFFSETTO:-0400
TZNAME:EDT
DTSTART:20250309T070000
END:DAYLIGHT
BEGIN:STANDARD
TZOFFSETFROM:-0400
TZOFFSETTO:-0500
TZNAME:EST
DTSTART:20251102T060000
END:STANDARD
BEGIN:DAYLIGHT
TZOFFSETFROM:-0500
TZOFFSETTO:-0400
TZNAME:EDT
DTSTART:20260308T070000
END:DAYLIGHT
BEGIN:STANDARD
TZOFFSETFROM:-0400
TZOFFSETTO:-0500
TZNAME:EST
DTSTART:20261101T060000
END:STANDARD
END:VTIMEZONE
BEGIN:VEVENT
DTSTART;TZID=America/New_York:20240606T160000
DTEND;TZID=America/New_York:20240606T180000
DTSTAMP:20260424T005711
CREATED:20240513T214729Z
LAST-MODIFIED:20240513T215012Z
UID:10005089-1717689600-1717696800@www.pelham-library.net
SUMMARY:Film and Discussion: "Life With Bill: A New Model for Aging"
DESCRIPTION:“At ninety two my dad came to live with us. I had no idea how it would transform my life.” Life with Bill is a one-hour performance of stories and music with local author and speaker Nick Kachulis that speaks to the value and vibrancy of our older years. A heartfelt tale of taking care of a parent in their later years\, Life with Bill invites us to recognize that our older years are not just full of struggle and discomfort\, but of rebirth\, rejuvenation and joy\, even against unexpected odds. A screening of the film will be followed by a conversation with the filmmaker. This event is co-sponsored by Amherst Neighbors.
URL:https://www.pelham-library.net/event/film-and-discussion-life-with-bill-a-new-model-for-aging-copy/
LOCATION:Pelham Library\, 2 South Valley Road \, Pelham\, MA\, 01002\, United States
END:VEVENT
BEGIN:VEVENT
DTSTART;VALUE=DATE:20240619
DTEND;VALUE=DATE:20240620
DTSTAMP:20260424T005711
CREATED:20231211T170241Z
LAST-MODIFIED:20231211T170241Z
UID:10004868-1718755200-1718841599@www.pelham-library.net
SUMMARY:CLOSED: Juneteenth
DESCRIPTION:
URL:https://www.pelham-library.net/event/closed-juneteenth-4/
LOCATION:Pelham Library\, 2 South Valley Road \, Pelham\, MA\, 01002\, United States
END:VEVENT
BEGIN:VEVENT
DTSTART;TZID=America/New_York:20240731T180000
DTEND;TZID=America/New_York:20240731T193000
DTSTAMP:20260424T005711
CREATED:20240731T143704Z
LAST-MODIFIED:20240731T143704Z
UID:10005093-1722448800-1722454200@www.pelham-library.net
SUMMARY:POSTPONED UNTIL 8/14: Summer Reading: Raptors in Flight with Monadnock Falconry
DESCRIPTION:POSTPONED UNTIL 8/14 due to storms: How do you make friends with a bird or prey? Why would a wild raptor\, flying free\, swoop down to land on the glove of a six-foot tall mammal with below-average speed and eyesight? And who is training whom? Join Henry Walters\, master falconer and founder of Monadnock Falconry\, along with his hawk Mahood for a hands-on introduction to this fascinating partnership between human beings and a wild bird of prey. Great for families and nature enthusiasts of all ages.  \nThis program is part of “Find Your Voice”\, the 2023 iRead Summer Reading Program\, and is made possible by the Friends of the Pelham Library\, the Pelham Cultural Council\, the Massachusetts Board of Library Commissioners \, the Massachusetts Library System and the Boston Bruins.
URL:https://www.pelham-library.net/event/postponed-until-8-14-summer-reading-raptors-in-flight-with-monadnock-falconry/
LOCATION:Pelham Library\, 2 South Valley Road \, Pelham\, MA\, 01002\, United States
END:VEVENT
BEGIN:VEVENT
DTSTART;TZID=America/New_York:20240807T173000
DTEND;TZID=America/New_York:20240807T190000
DTSTAMP:20260424T005711
CREATED:20240812T001912Z
LAST-MODIFIED:20240812T001912Z
UID:10005131-1723051800-1723057200@www.pelham-library.net
SUMMARY:Summer Reading Party & Concert with The Grumpytime Club Band
DESCRIPTION:Bring your reading logs for prizes at 5:30 (everyone gets a prize!) followed by a concert with The Grumpytime Club Band at 6. Refreshments will be served! \nThis event is a part of “Read\, Renew\, Repeat”\, the 2024 iRead Summer Reading Program\, and is made possible in part by the Pelham Cultural Council\, the Friends of the Pelham Library\, the Massachusetts Library Association and the Boston Bruins.
URL:https://www.pelham-library.net/event/summer-reading-party-concert-with-the-grumpytime-club-band/
LOCATION:Pelham Library\, 2 South Valley Road \, Pelham\, MA\, 01002\, United States
ATTACH;FMTTYPE=image/png:https://www.pelham-library.net/wp-content/uploads/2024/07/Grumpytime-Club.png
END:VEVENT
BEGIN:VEVENT
DTSTART;TZID=America/New_York:20240814T180000
DTEND;TZID=America/New_York:20240814T193000
DTSTAMP:20260424T005711
CREATED:20240731T144128Z
LAST-MODIFIED:20240731T144128Z
UID:10005094-1723658400-1723663800@www.pelham-library.net
SUMMARY:Summer Reading: Raptors in Flight with Monadnock Falconry
DESCRIPTION:How do you make friends with a bird or prey? Why would a wild raptor\, flying free\, swoop down to land on the glove of a six-foot tall mammal with below-average speed and eyesight? And who is training whom? Join Henry Walters\, master falconer and founder of Monadnock Falconry\, along with his hawk Mahood for a hands-on introduction to this fascinating partnership between human beings and a wild bird of prey. Great for families and nature enthusiasts of all ages.  \nThis program is part of “Find Your Voice”\, the 2023 iRead Summer Reading Program\, and is made possible by the Friends of the Pelham Library\, the Pelham Cultural Council\, the Massachusetts Board of Library Commissioners \, the Massachusetts Library System and the Boston Bruins.
URL:https://www.pelham-library.net/event/summer-reading-raptors-in-flight-with-monadnock-falconry-2/
LOCATION:Pelham Library\, 2 South Valley Road \, Pelham\, MA\, 01002\, United States
ATTACH;FMTTYPE=image/jpeg:https://www.pelham-library.net/wp-content/uploads/2024/07/falconer-friend-henry-mahood_51727376524_o-scaled.jpg
END:VEVENT
BEGIN:VEVENT
DTSTART;TZID=America/New_York:20240831T123000
DTEND;TZID=America/New_York:20240831T133000
DTSTAMP:20260424T005711
CREATED:20240819T194245Z
LAST-MODIFIED:20240819T194245Z
UID:10005161-1725107400-1725111000@www.pelham-library.net
SUMMARY:Teen Book Club Intro Meeting
DESCRIPTION:This club\, run by and for teens\, is for having fun\, a time to hang out\, read and talk about books\, and do projects. At the first meeting we’ll be making favorite book leaf garlands! All teens/tweens\, 7th grade and up\, are welcome. Refreshments will be served. Can’t make the meeting but you’re interested? Let us know and we’ll add you to the list for the next meeting.
URL:https://www.pelham-library.net/event/teen-book-club-intro-meeting/
LOCATION:Pelham Library\, 2 South Valley Road \, Pelham\, MA\, 01002\, United States
ATTACH;FMTTYPE=image/png:https://www.pelham-library.net/wp-content/uploads/2024/08/Teen-Book-Club.png
END:VEVENT
BEGIN:VEVENT
DTSTART;TZID=America/New_York:20240921T103000
DTEND;TZID=America/New_York:20240921T120000
DTSTAMP:20260424T005711
CREATED:20240919T222320Z
LAST-MODIFIED:20240919T222320Z
UID:10005317-1726914600-1726920000@www.pelham-library.net
SUMMARY:Teen Book Club
DESCRIPTION:This club\, run by and for teens\, is for having fun\, a time to hang out\, read and talk about books\, and do projects. All teens/tweens\, 7th grade and up\, are welcome. Refreshments will be served. Can’t make the meeting but you’re interested? Let us know and we’ll add you to the list for the next meeting.
URL:https://www.pelham-library.net/event/teen-book-club/
LOCATION:Pelham Library\, 2 South Valley Road \, Pelham\, MA\, 01002\, United States
ATTACH;FMTTYPE=image/png:https://www.pelham-library.net/wp-content/uploads/2024/08/Teen-Book-Club.png
END:VEVENT
BEGIN:VEVENT
DTSTART;TZID=America/New_York:20240924T180000
DTEND;TZID=America/New_York:20240924T200000
DTSTAMP:20260424T005711
CREATED:20240819T193455Z
LAST-MODIFIED:20240819T193455Z
UID:10005160-1727200800-1727208000@www.pelham-library.net
SUMMARY:Safe Drinking Water in Private Wells
DESCRIPTION:Thousands of people in MA rely on private wells for their drinking water. It’s up to you to make sure that your well is providing clean drinking water and we want to help! This workshop\, presented by RCAP solutions\, will provide information on: \n-Water well basics & construction\n-Maintenance & management of existing water wells\n-Solving water quality & quantity problems \nThis program is co-sponsored by the Pelham Board of Health
URL:https://www.pelham-library.net/event/safe-drinking-water-in-private-wells/
LOCATION:Pelham Library\, 2 South Valley Road \, Pelham\, MA\, 01002\, United States
ATTACH;FMTTYPE=image/png:https://www.pelham-library.net/wp-content/uploads/2024/08/private-well.png
END:VEVENT
BEGIN:VEVENT
DTSTART;TZID=America/New_York:20240925T190000
DTEND;TZID=America/New_York:20240925T210000
DTSTAMP:20260424T005711
CREATED:20240819T192425Z
LAST-MODIFIED:20240819T192559Z
UID:10005159-1727290800-1727298000@www.pelham-library.net
SUMMARY:BOOK GROUP: "Rough Sleepers" by Tracy Kidder
DESCRIPTION:This month’s title is “Rough Sleepers” by Tracy Kidder. All are welcome and copies are available at the desk.
URL:https://www.pelham-library.net/event/book-group-hello-beautiful-copy-copy/
LOCATION:Pelham Library\, 2 South Valley Road \, Pelham\, MA\, 01002\, United States
ATTACH;FMTTYPE=image/webp:https://www.pelham-library.net/wp-content/uploads/2024/08/Rough-Sleepers.webp
END:VEVENT
BEGIN:VEVENT
DTSTART;TZID=America/New_York:20241008T173000
DTEND;TZID=America/New_York:20241008T190000
DTSTAMP:20260424T005711
CREATED:20240919T222142Z
LAST-MODIFIED:20240919T222142Z
UID:10005316-1728408600-1728414000@www.pelham-library.net
SUMMARY:Frances Perkins: A Woman's Work\, performed by Jarice Hanson
DESCRIPTION:Join us for this one-woman show that tells the story of the first woman to hold a Cabinet position–Secretary of Labor Perkins. A Massachusetts native and Mount Holyoke College alumna\, her sacrifices and leadership ushered in a range of progressive social reforms in the first half of the 20th century. As the primary architect of the New Deal legislation\, Perkins gave us Social Security\, the 40 hour work week\, a minimum wage\, child labor laws and more. \nJarice Hanson is Professor Emerita of Communication at UMass Amherst and a proud member of Actor’s Equity and the Screen Actor’s Guild unions. In addition to acting and teaching\, she has authored\, co-authored and edited over 30 academic books and many scholarly articles. \nThis program is co-sponsored by the Pelham Library\, the Pelham Historical Society and the Pelham Council on Aging.
URL:https://www.pelham-library.net/event/frances-perkins-a-womans-work-performed-by-jarice-hanson/
LOCATION:Pelham Library\, 2 South Valley Road \, Pelham\, MA\, 01002\, United States
ATTACH;FMTTYPE=image/png:https://www.pelham-library.net/wp-content/uploads/2024/09/frances_perkins_jarice-no-text-flyer.png
END:VEVENT
BEGIN:VEVENT
DTSTART;VALUE=DATE:20241014
DTEND;VALUE=DATE:20241015
DTSTAMP:20260424T005711
CREATED:20240912T202124Z
LAST-MODIFIED:20240912T202124Z
UID:10005293-1728864000-1728950399@www.pelham-library.net
SUMMARY:CLOSED: Indigenous Peoples Day
DESCRIPTION:
URL:https://www.pelham-library.net/event/closed-indigenous-peoples-day/
LOCATION:Pelham Library\, 2 South Valley Road \, Pelham\, MA\, 01002\, United States
CATEGORIES:Closed
END:VEVENT
BEGIN:VEVENT
DTSTART;TZID=America/New_York:20241022T190000
DTEND;TZID=America/New_York:20241022T210000
DTSTAMP:20260424T005711
CREATED:20241008T205439Z
LAST-MODIFIED:20241008T205439Z
UID:10005319-1729623600-1729630800@www.pelham-library.net
SUMMARY:Beekeeping: Then & Now
DESCRIPTION:For thousands of years\, people have been keeping honeybees. From clay pots to flow hives\, beekeeping continues to evolve. Join National Park Ranger and Beekeeper Susan Ashman as she discusses the history of beekeeping and the backyard beekeeper of today. This program is co-sponsored by the Pelham Historical Society.
URL:https://www.pelham-library.net/event/beekeeping-then-now/
LOCATION:Pelham Library\, 2 South Valley Road \, Pelham\, MA\, 01002\, United States
ATTACH;FMTTYPE=image/jpeg:https://www.pelham-library.net/wp-content/uploads/2024/10/beekeeping.jpg
END:VEVENT
BEGIN:VEVENT
DTSTART;TZID=America/New_York:20241026T120000
DTEND;TZID=America/New_York:20241026T130000
DTSTAMP:20260424T005711
CREATED:20241008T212110Z
LAST-MODIFIED:20241024T193011Z
UID:10005320-1729944000-1729947600@www.pelham-library.net
SUMMARY:POSTPONED: West African Drumming Workshop
DESCRIPTION:THIS EVENT HAS BEEN POSTPONED\, NEW DATE COMING SOON! Come out to play with the Wendell Warriors drumming ensemble and led by Jafar Manselle. Jafar will show you how to make different tones on the drum and introduce African rhythms used for village celebrations. As a group\, we will all play together and celebrate the day. A drum class is always a celebration. Together we’ll have fun and learn at the same time. This program is open to adults and teens ages 15 and up. Space is limited. Register at https://www.signupgenius.com/go/10C0D4EAAA72EA3FEC61-52174419-west \nThis program is made possible through the generosity of the Pelham Cultural Council.
URL:https://www.pelham-library.net/event/west-african-drumming-workshop/
LOCATION:Pelham Library\, 2 South Valley Road \, Pelham\, MA\, 01002\, United States
ATTACH;FMTTYPE=image/png:https://www.pelham-library.net/wp-content/uploads/2024/10/drumming.png
END:VEVENT
BEGIN:VEVENT
DTSTART;TZID=America/New_York:20241026T163000
DTEND;TZID=America/New_York:20241026T180000
DTSTAMP:20260424T005711
CREATED:20241024T193648Z
LAST-MODIFIED:20241024T193648Z
UID:10005333-1729960200-1729965600@www.pelham-library.net
SUMMARY:Pelham Trunk or Treat in the Parking Lot
DESCRIPTION:The Pelham School PTO’s big party now includes a Pelham Library storytime tent! Put on your costume and come out and play!
URL:https://www.pelham-library.net/event/pelham-trunk-or-treat-in-the-parking-lot/
LOCATION:Pelham Library\, 2 South Valley Road \, Pelham\, MA\, 01002\, United States
ATTACH;FMTTYPE=image/jpeg:https://www.pelham-library.net/wp-content/uploads/2024/10/Trunk_Or_Treat_Event_Image_23.jpg
END:VEVENT
BEGIN:VEVENT
DTSTART;TZID=America/New_York:20241106T160000
DTEND;TZID=America/New_York:20241106T180000
DTSTAMP:20260424T005711
CREATED:20241016T204811Z
LAST-MODIFIED:20241016T204811Z
UID:10005332-1730908800-1730916000@www.pelham-library.net
SUMMARY:Chainmail Bracelet Workshop with Castle Nitor
DESCRIPTION:Join the staff of Castle Nitor for a fun lesson on how to make a chainmail bracelet. Learn one of the most common chainmail weaves used to make armor in the past. This workshop is open to teens and adults. Sign up at https://www.signupgenius.com/go/10C0D4EAAA72EA3FEC61-52391095-chainmail#/
URL:https://www.pelham-library.net/event/chainmail-bracelet-workshop-with-castle-nitor/
LOCATION:Pelham Library\, 2 South Valley Road \, Pelham\, MA\, 01002\, United States
ATTACH;FMTTYPE=image/jpeg:https://www.pelham-library.net/wp-content/uploads/2024/10/chainmail-bracelet.jpeg
END:VEVENT
BEGIN:VEVENT
DTSTART;TZID=America/New_York:20241106T190000
DTEND;TZID=America/New_York:20241106T210000
DTSTAMP:20260424T005711
CREATED:20240930T150758Z
LAST-MODIFIED:20240930T150758Z
UID:10005318-1730919600-1730926800@www.pelham-library.net
SUMMARY:BOOK GROUP: "A Prayer for Owen Meany"
DESCRIPTION:This month’s title is “A Prayer for Owen Meany” by John Irving. All are welcome and copies are available at the desk.
URL:https://www.pelham-library.net/event/book-group-a-prayer-for-owen-meany/
LOCATION:Pelham Library\, 2 South Valley Road \, Pelham\, MA\, 01002\, United States
ATTACH;FMTTYPE=image/jpeg:https://www.pelham-library.net/wp-content/uploads/2024/09/prayer-owen-meany.jpg
END:VEVENT
BEGIN:VEVENT
DTSTART;TZID=America/New_York:20241107T190000
DTEND;TZID=America/New_York:20241107T203000
DTSTAMP:20260424T005711
CREATED:20240311T214517Z
LAST-MODIFIED:20241031T210519Z
UID:10004994-1731006000-1731011400@www.pelham-library.net
SUMMARY:Friends of the Library Meeting
DESCRIPTION:Join the Friends of the Library for our next meeting.  We’ll discuss ideas for programming\, special events and more. Bring your ideas\, energy and a friend!
URL:https://www.pelham-library.net/event/friends-of-the-library-meeting-15-copy/
LOCATION:Pelham Library\, 2 South Valley Road \, Pelham\, MA\, 01002\, United States
ATTACH;FMTTYPE=image/jpeg:https://www.pelham-library.net/wp-content/uploads/2021/12/Friends-Meeting-Flyer.jpg
END:VEVENT
BEGIN:VEVENT
DTSTART;VALUE=DATE:20241111
DTEND;VALUE=DATE:20241112
DTSTAMP:20260424T005711
CREATED:20240912T202229Z
LAST-MODIFIED:20240912T202229Z
UID:10005294-1731283200-1731369599@www.pelham-library.net
SUMMARY:CLOSED: Veterans Day
DESCRIPTION:
URL:https://www.pelham-library.net/event/closed-veterans-day/
LOCATION:Pelham Library\, 2 South Valley Road \, Pelham\, MA\, 01002\, United States
CATEGORIES:Closed
END:VEVENT
BEGIN:VEVENT
DTSTART;TZID=America/New_York:20241116T120000
DTEND;TZID=America/New_York:20241116T130000
DTSTAMP:20260424T005711
CREATED:20241104T154407Z
LAST-MODIFIED:20241104T154407Z
UID:10005334-1731758400-1731762000@www.pelham-library.net
SUMMARY:Belly Dance Magic with the Crescent Dancers
DESCRIPTION:The Crescent Dancers perform Middle Eastern dance in all its variety and joy.
URL:https://www.pelham-library.net/event/belly-dance-magic-with-the-crescent-dancers/
LOCATION:Pelham Library\, 2 South Valley Road \, Pelham\, MA\, 01002\, United States
ATTACH;FMTTYPE=image/jpeg:https://www.pelham-library.net/wp-content/uploads/2024/11/Troupe-with-audience-dancers-24-scaled.jpg
END:VEVENT
BEGIN:VEVENT
DTSTART;TZID=America/New_York:20241119T190000
DTEND;TZID=America/New_York:20241119T203000
DTSTAMP:20260424T005711
CREATED:20241104T164820Z
LAST-MODIFIED:20241107T204659Z
UID:10005335-1732042800-1732048200@www.pelham-library.net
SUMMARY:Native Histories: Recovering Understandings of the Indiginous Past with Dr. Margaret Bruchac
DESCRIPTION:Native American communities in Nonotuck (now Amherst\, Pelham\, Hadley and Northampton) in the Kwinitekw (Connecticut River) Valley\, were long supported by reciprocal trade and diplomacy with their Native neighbors\, including Nipmuc to the east and Abenaki to the north\, yet the increase in colonial warfare during the late 1600s-1700s forced many Native families to relocate. \nThis talk by Dr. Margaret M. Bruchac\, Professor Emerita of Anthropology at the University of Pennsylvania\, offers insights into regional Native histories by critically revisiting colonial records\, antiquarian histories and Native memories. \nThis event is co-sponsored by the Pelham Historical Society
URL:https://www.pelham-library.net/event/native-histories-recovering-understandings-of-the-indiginous-past-with-dr-margaret-bruchac/
LOCATION:Pelham Library\, 2 South Valley Road \, Pelham\, MA\, 01002\, United States
ATTACH;FMTTYPE=image/webp:https://www.pelham-library.net/wp-content/uploads/2024/11/marge_crv_portrait_5uwd.webp
END:VEVENT
BEGIN:VEVENT
DTSTART;TZID=America/New_York:20241126T183000
DTEND;TZID=America/New_York:20241126T200000
DTSTAMP:20260424T005711
CREATED:20241112T214711Z
LAST-MODIFIED:20241112T225514Z
UID:10005337-1732645800-1732651200@www.pelham-library.net
SUMMARY:In-Person Forum with State Senator Jo Comerford
DESCRIPTION:We will be hosting an in-person forum with our recently re-elected State Senator\, Jo Comerford. She will provide a sense of what lies ahead in the next legislative session for our town and our Commonwealth and hear from constituents about our concerns in anticipation of the changes on the national level. \nMeet up with your neighbors\, bring your questions\, learn more about the many ways that Senator Comerford represents our interests at the State House. If there are particular issues that you would like to hear discussed\, please email Anne Nugent at nugeae@comcast.net \n 
URL:https://www.pelham-library.net/event/in-person-forum-with-state-senator-jo-comerford/
LOCATION:Pelham Library\, 2 South Valley Road \, Pelham\, MA\, 01002\, United States
ATTACH;FMTTYPE=image/jpeg:https://www.pelham-library.net/wp-content/uploads/2022/06/jo-comerford-headshot.jpg
END:VEVENT
BEGIN:VEVENT
DTSTART;VALUE=DATE:20241128
DTEND;VALUE=DATE:20241130
DTSTAMP:20260424T005711
CREATED:20240912T202328Z
LAST-MODIFIED:20240912T202328Z
UID:10005295-1732752000-1732924799@www.pelham-library.net
SUMMARY:CLOSED: Thanksgiving
DESCRIPTION:
URL:https://www.pelham-library.net/event/closed-thanksgiving/
LOCATION:Pelham Library\, 2 South Valley Road \, Pelham\, MA\, 01002\, United States
CATEGORIES:Closed
END:VEVENT
BEGIN:VEVENT
DTSTART;TZID=America/New_York:20241204T160000
DTEND;TZID=America/New_York:20241204T190000
DTSTAMP:20260424T005711
CREATED:20241107T235911Z
LAST-MODIFIED:20241107T235911Z
UID:10005336-1733328000-1733338800@www.pelham-library.net
SUMMARY:Make a Medieval Board Game with Castle Nitor
DESCRIPTION:Board games have been around for a very long time! Join the staff of Castle Nitor to get a bit of a history lesson and make your own medieval board game. All materials will be provided. This program is for teens and adults. Sign up at https://www.signupgenius.com/go/10C0D4EAAA72EA3FEC61-53095333-make
URL:https://www.pelham-library.net/event/make-a-medieval-board-game-with-castle-nitor/
LOCATION:Pelham Library\, 2 South Valley Road \, Pelham\, MA\, 01002\, United States
ATTACH;FMTTYPE=image/png:https://www.pelham-library.net/wp-content/uploads/2024/11/GameBoar03.png
END:VEVENT
BEGIN:VEVENT
DTSTART;TZID=America/New_York:20241211T190000
DTEND;TZID=America/New_York:20241211T210000
DTSTAMP:20260424T005711
CREATED:20241120T224921Z
LAST-MODIFIED:20241120T224921Z
UID:10005338-1733943600-1733950800@www.pelham-library.net
SUMMARY:BOOK GROUP: "Remarkably Bright Creatures
DESCRIPTION:This month’s title for the Pelham Library Book Group is “Remarkably Bright Creatures” by Shelby Van Pelt. Copies are available at the desk and all are welcome.
URL:https://www.pelham-library.net/event/book-group-remarkably-bright-creatures/
LOCATION:Pelham Library\, 2 South Valley Road \, Pelham\, MA\, 01002\, United States
ATTACH;FMTTYPE=image/jpeg:https://www.pelham-library.net/wp-content/uploads/2024/11/Author_Talk_-_Bright_Creatures.jpg
END:VEVENT
BEGIN:VEVENT
DTSTART;TZID=America/New_York:20241214T110000
DTEND;TZID=America/New_York:20241214T130000
DTSTAMP:20260424T005711
CREATED:20241120T225250Z
LAST-MODIFIED:20241120T225250Z
UID:10005339-1734174000-1734181200@www.pelham-library.net
SUMMARY:Artist's Reception: Diane Steingart's "Stories I Tell Myself"
DESCRIPTION:Diane Steingart is a mixed media artist and painter whose work explores the inner world of feeling\, memories and dreams. Her work is both psychological and spiritual\, and can be both abstract and semi-representational. Her work is therapeutic for herself\, and she finds the work resonates for others\, too. Meet the artist. Refreshments will be served.
URL:https://www.pelham-library.net/event/artists-reception-diane-steingarts-stories-i-tell-myself/
LOCATION:Pelham Library\, 2 South Valley Road \, Pelham\, MA\, 01002\, United States
ATTACH;FMTTYPE=image/jpeg:https://www.pelham-library.net/wp-content/uploads/2024/11/Serenity_DSteingart_24x18_2024_acrylic_145157_ed-Large.jpg
END:VEVENT
BEGIN:VEVENT
DTSTART;VALUE=DATE:20241224
DTEND;VALUE=DATE:20241225
DTSTAMP:20260424T005711
CREATED:20181106T204426Z
LAST-MODIFIED:20190123T044011Z
UID:10005072-1734998400-1735084799@www.pelham-library.net
SUMMARY:CLOSED: CHRISTMAS EVE
DESCRIPTION:To allow our staff to spend time with their families we will be closed this evening.
URL:https://www.pelham-library.net/event/closed-christmas-eve/2024-12-24/
LOCATION:Pelham Library\, 2 South Valley Road \, Pelham\, MA\, 01002\, United States
CATEGORIES:Closed
END:VEVENT
BEGIN:VEVENT
DTSTART;VALUE=DATE:20241231
DTEND;VALUE=DATE:20250101
DTSTAMP:20260424T005711
CREATED:20240912T203059Z
LAST-MODIFIED:20240912T203059Z
UID:10005301-1735603200-1735689599@www.pelham-library.net
SUMMARY:CLOSED: New Years Eve
DESCRIPTION:
URL:https://www.pelham-library.net/event/closed-new-years-eve/
LOCATION:Pelham Library\, 2 South Valley Road \, Pelham\, MA\, 01002\, United States
CATEGORIES:Closed
END:VEVENT
BEGIN:VEVENT
DTSTART;VALUE=DATE:20250101
DTEND;VALUE=DATE:20250102
DTSTAMP:20260424T005711
CREATED:20171220T033157Z
LAST-MODIFIED:20220908T203149Z
UID:10005064-1735689600-1735775999@www.pelham-library.net
SUMMARY:CLOSED: New Year's Day
DESCRIPTION:The Library will be CLOSED today. Happy New Year!
URL:https://www.pelham-library.net/event/closed-new-years-day/2025-01-01/
LOCATION:Pelham Library\, 2 South Valley Road \, Pelham\, MA\, 01002\, United States
CATEGORIES:Closed
END:VEVENT
BEGIN:VEVENT
DTSTART;TZID=America/New_York:20250111T120000
DTEND;TZID=America/New_York:20250111T130000
DTSTAMP:20260424T005711
CREATED:20241216T232226Z
LAST-MODIFIED:20241216T232226Z
UID:10005340-1736596800-1736600400@www.pelham-library.net
SUMMARY:West African Drumming Workshop
DESCRIPTION:Come out to play with the Wendell Warriors drumming ensemble and led by Jafar Manselle. Jafar will show you how to make different tones on the drum and introduce African rhythms used for village celebrations. As a group\, we will all play together and celebrate the day. A drum class is always a celebration. Together we’ll have fun and learn at the same time. This program is open to adults and teens ages 15 and up. Space is limited. Register at https://www.signupgenius.com/go/10C0D4EAAA72EA3FEC61-52174419-west \nThis program is made possible through the generosity of the Pelham Cultural Council.
URL:https://www.pelham-library.net/event/west-african-drumming-workshop-2/
LOCATION:Pelham Library\, 2 South Valley Road \, Pelham\, MA\, 01002\, United States
ATTACH;FMTTYPE=image/png:https://www.pelham-library.net/wp-content/uploads/2024/10/drumming.png
END:VEVENT
BEGIN:VEVENT
DTSTART;TZID=America/New_York:20250114T173000
DTEND;TZID=America/New_York:20250114T190000
DTSTAMP:20260424T005711
CREATED:20241217T220324Z
LAST-MODIFIED:20241217T220352Z
UID:10005486-1736875800-1736881200@www.pelham-library.net
SUMMARY:Sustainability Series: Hand Sewing and Mending 101 with Meguey Baker
DESCRIPTION:In our modern world\, mending instead of buying new is a radical act! Come learn hand-sewing techniques that were once part of everyone’s skill set\, and can be again! Materials provided in this hands-on make-and-take covering the basics you need to do routine mending and alterations on your wardrobe.
URL:https://www.pelham-library.net/event/sustainability-series-hand-sewing-and-mending-101-with-meguey-baker/
LOCATION:Pelham Library\, 2 South Valley Road \, Pelham\, MA\, 01002\, United States
ATTACH;FMTTYPE=image/jpeg:https://www.pelham-library.net/wp-content/uploads/2024/12/sewing-box.jpg
END:VEVENT
END:VCALENDAR