BEGIN:VCALENDAR
VERSION:2.0
PRODID:-//Pelham Library - ECPv6.15.20//NONSGML v1.0//EN
CALSCALE:GREGORIAN
METHOD:PUBLISH
X-WR-CALNAME:Pelham Library
X-ORIGINAL-URL:https://www.pelham-library.net
X-WR-CALDESC:Events for Pelham Library
REFRESH-INTERVAL;VALUE=DURATION:PT1H
X-Robots-Tag:noindex
X-PUBLISHED-TTL:PT1H
BEGIN:VTIMEZONE
TZID:America/New_York
BEGIN:DAYLIGHT
TZOFFSETFROM:-0500
TZOFFSETTO:-0400
TZNAME:EDT
DTSTART:20250309T070000
END:DAYLIGHT
BEGIN:STANDARD
TZOFFSETFROM:-0400
TZOFFSETTO:-0500
TZNAME:EST
DTSTART:20251102T060000
END:STANDARD
BEGIN:DAYLIGHT
TZOFFSETFROM:-0500
TZOFFSETTO:-0400
TZNAME:EDT
DTSTART:20260308T070000
END:DAYLIGHT
BEGIN:STANDARD
TZOFFSETFROM:-0400
TZOFFSETTO:-0500
TZNAME:EST
DTSTART:20261101T060000
END:STANDARD
BEGIN:DAYLIGHT
TZOFFSETFROM:-0500
TZOFFSETTO:-0400
TZNAME:EDT
DTSTART:20270314T070000
END:DAYLIGHT
BEGIN:STANDARD
TZOFFSETFROM:-0400
TZOFFSETTO:-0500
TZNAME:EST
DTSTART:20271107T060000
END:STANDARD
END:VTIMEZONE
BEGIN:VEVENT
DTSTART;TZID=America/New_York:20260302T103000
DTEND;TZID=America/New_York:20260302T111500
DTSTAMP:20260423T215243
CREATED:20250827T192944Z
LAST-MODIFIED:20260125T061824Z
UID:10005842-1772447400-1772450100@www.pelham-library.net
SUMMARY:Music for Little Ones with Wendy Plummer (yes\, it's outside of regular library hours)
DESCRIPTION:Join Wendy for songs and fingerplays on Monday mornings when you’ll have the library all to yourselves! This event is open to all parents and caregivers of infants\, toddlers and preschoolers and their little ones. PLEASE NOTE: This event occurs outside of regular library hours
URL:https://www.pelham-library.net/event/music-for-little-ones-with-wendy-plummer-8-copy-2-2/2026-03-02/
LOCATION:MA
CATEGORIES:Regular Event
ATTACH;FMTTYPE=image/jpeg:https://www.pelham-library.net/wp-content/uploads/2025/06/IMG_0335-scaled.jpg
END:VEVENT
BEGIN:VEVENT
DTSTART;TZID=America/New_York:20260302T170000
DTEND;TZID=America/New_York:20260302T190000
DTSTAMP:20260423T215243
CREATED:20260125T062712Z
LAST-MODIFIED:20260125T062712Z
UID:10005989-1772470800-1772478000@www.pelham-library.net
SUMMARY:D&D for Neurodiverse Young Adults
DESCRIPTION:This weekly Dungeons & Dragons game is run by and for autistic and similarly neurodivergent young adults (post-high school age). The group is currently full\, but if you’re interested in joining get in touch and we’ll let you know when space is available. Participants are invited to come for an informal hang-out starting at 3:00. The game starts at 5.
URL:https://www.pelham-library.net/event/dd-for-neurodiverse-young-adults-2/2026-03-02/
LOCATION:Pelham Library\, 2 South Valley Road \, Pelham\, MA\, 01002\, United States
ATTACH;FMTTYPE=image/jpeg:https://www.pelham-library.net/wp-content/uploads/2024/03/d20-neurodivergent.jpg
END:VEVENT
BEGIN:VEVENT
DTSTART;VALUE=DATE:20260303
DTEND;VALUE=DATE:20260304
DTSTAMP:20260423T215243
CREATED:20260303T194351Z
LAST-MODIFIED:20260303T194351Z
UID:10006055-1772496000-1772582399@www.pelham-library.net
SUMMARY:CLOSED: SNOW
DESCRIPTION:
URL:https://www.pelham-library.net/event/closed-snow/
LOCATION:Pelham Library\, 2 South Valley Road \, Pelham\, MA\, 01002\, United States
END:VEVENT
BEGIN:VEVENT
DTSTART;TZID=America/New_York:20260305T173000
DTEND;TZID=America/New_York:20260305T184500
DTSTAMP:20260423T215243
CREATED:20250904T203550Z
LAST-MODIFIED:20260106T221436Z
UID:10005770-1772731800-1772736300@www.pelham-library.net
SUMMARY:Yoga with Sara Coblyn
DESCRIPTION:Join us on Thursdays for an adult vinyassa style yoga class led by Sara Coblyn of Sweet Roots Gardens. Please bring a mat. No registration is needed and drop-ins are welcome!
URL:https://www.pelham-library.net/event/yoga-with-sara-coblyn-2/2026-03-05/
LOCATION:Pelham Library\, 2 South Valley Road \, Pelham\, MA\, 01002\, United States
CATEGORIES:Regular Event
ATTACH;FMTTYPE=image/jpeg:https://www.pelham-library.net/wp-content/uploads/2023/01/sara-coblyn-yoga-scaled.jpg
END:VEVENT
BEGIN:VEVENT
DTSTART;TZID=America/New_York:20260306T103000
DTEND;TZID=America/New_York:20260306T113000
DTSTAMP:20260423T215243
CREATED:20250902T211805Z
LAST-MODIFIED:20251218T225542Z
UID:10005821-1772793000-1772796600@www.pelham-library.net
SUMMARY:Playgroup & Storytime
DESCRIPTION:Bring your little one and join Caylin\, our playgroup coordinator\, for storytime and fun! This event\, sponsored by CES\, is open to all parents and caregivers of children from birth-5 and their little ones.
URL:https://www.pelham-library.net/event/playgroup-storytime-2/2026-03-06/
LOCATION:Pelham Library\, 2 South Valley Road \, Pelham\, MA\, 01002\, United States
ATTACH;FMTTYPE=image/jpeg:https://www.pelham-library.net/wp-content/uploads/2025/09/caylin.jpg
END:VEVENT
BEGIN:VEVENT
DTSTART;TZID=America/New_York:20260307T101500
DTEND;TZID=America/New_York:20260307T113000
DTSTAMP:20260423T215243
CREATED:20260115T215837Z
LAST-MODIFIED:20260207T150517Z
UID:10005875-1772878500-1772883000@www.pelham-library.net
SUMMARY:Qigong with Rema Boscov
DESCRIPTION:Qigong (pronounced chee gong)\, an ancient energy art\, is the precursor to Tai Chi\, with a focus on health and healing. The movements\, sometimes described as moving meditation\, are simple\, graceful\, and easy to learn. Wear comfortable shoes and clothing. No mats are needed. The class\, taught by Rema Boscov\, is open to all adults and teens\, and all abilities are welcome.
URL:https://www.pelham-library.net/event/qigong-with-rema-boscov-3-2-2-2/2026-03-07/
LOCATION:Pelham Library\, 2 South Valley Road \, Pelham\, MA\, 01002\, United States
ATTACH;FMTTYPE=image/jpeg:https://www.pelham-library.net/wp-content/uploads/2022/04/rema-white-bell-flowers.jpg
END:VEVENT
BEGIN:VEVENT
DTSTART;TZID=America/New_York:20260309T103000
DTEND;TZID=America/New_York:20260309T111500
DTSTAMP:20260423T215243
CREATED:20250827T192944Z
LAST-MODIFIED:20260125T061824Z
UID:10005843-1773052200-1773054900@www.pelham-library.net
SUMMARY:Music for Little Ones with Wendy Plummer (yes\, it's outside of regular library hours)
DESCRIPTION:Join Wendy for songs and fingerplays on Monday mornings when you’ll have the library all to yourselves! This event is open to all parents and caregivers of infants\, toddlers and preschoolers and their little ones. PLEASE NOTE: This event occurs outside of regular library hours
URL:https://www.pelham-library.net/event/music-for-little-ones-with-wendy-plummer-8-copy-2-2/2026-03-09/
LOCATION:MA
CATEGORIES:Regular Event
ATTACH;FMTTYPE=image/jpeg:https://www.pelham-library.net/wp-content/uploads/2025/06/IMG_0335-scaled.jpg
END:VEVENT
BEGIN:VEVENT
DTSTART;TZID=America/New_York:20260309T143000
DTEND;TZID=America/New_York:20260309T153000
DTSTAMP:20260423T215243
CREATED:20240912T201305Z
LAST-MODIFIED:20260204T215402Z
UID:10006037-1773066600-1773070200@www.pelham-library.net
SUMMARY:State Rep. Aaron Saunders Open Office Hours
DESCRIPTION:Come meet your state representative. Bring your questions and concerns.
URL:https://www.pelham-library.net/event/state-rep-aaron-saunders-open-office-hours-2-copy-copy-copy-2/2026-03-09/
LOCATION:Pelham Library\, 2 South Valley Road \, Pelham\, MA\, 01002\, United States
ATTACH;FMTTYPE=image/jpeg:https://www.pelham-library.net/wp-content/uploads/2023/06/aaron-saunders.jpg
END:VEVENT
BEGIN:VEVENT
DTSTART;TZID=America/New_York:20260309T170000
DTEND;TZID=America/New_York:20260309T190000
DTSTAMP:20260423T215243
CREATED:20260125T062712Z
LAST-MODIFIED:20260125T062712Z
UID:10005990-1773075600-1773082800@www.pelham-library.net
SUMMARY:D&D for Neurodiverse Young Adults
DESCRIPTION:This weekly Dungeons & Dragons game is run by and for autistic and similarly neurodivergent young adults (post-high school age). The group is currently full\, but if you’re interested in joining get in touch and we’ll let you know when space is available. Participants are invited to come for an informal hang-out starting at 3:00. The game starts at 5.
URL:https://www.pelham-library.net/event/dd-for-neurodiverse-young-adults-2/2026-03-09/
LOCATION:Pelham Library\, 2 South Valley Road \, Pelham\, MA\, 01002\, United States
ATTACH;FMTTYPE=image/jpeg:https://www.pelham-library.net/wp-content/uploads/2024/03/d20-neurodivergent.jpg
END:VEVENT
BEGIN:VEVENT
DTSTART;TZID=America/New_York:20260311T080000
DTEND;TZID=America/New_York:20260311T170000
DTSTAMP:20260423T215243
CREATED:20251216T040347Z
LAST-MODIFIED:20251216T040904Z
UID:10005857-1773216000-1773248400@www.pelham-library.net
SUMMARY:Teen/Tween Dungeons & Dragons (currently FULL)
DESCRIPTION:Teens & Tweens Only! This program is currently FULL. Please call or email if you’re interested in joining the waitlist for our campaign led by Dungeon Master Tony Page.
URL:https://www.pelham-library.net/event/teen-tween-dungeons-dragons-currently-full-2/2026-03-11/
LOCATION:Pelham Library\, 2 South Valley Road \, Pelham\, MA\, 01002\, United States
CATEGORIES:Regular Event
ATTACH;FMTTYPE=image/jpeg:https://www.pelham-library.net/wp-content/uploads/2023/01/dnd.jpg
END:VEVENT
BEGIN:VEVENT
DTSTART;TZID=America/New_York:20260312T173000
DTEND;TZID=America/New_York:20260312T184500
DTSTAMP:20260423T215243
CREATED:20250904T203550Z
LAST-MODIFIED:20260106T221436Z
UID:10005771-1773336600-1773341100@www.pelham-library.net
SUMMARY:Yoga with Sara Coblyn
DESCRIPTION:Join us on Thursdays for an adult vinyassa style yoga class led by Sara Coblyn of Sweet Roots Gardens. Please bring a mat. No registration is needed and drop-ins are welcome!
URL:https://www.pelham-library.net/event/yoga-with-sara-coblyn-2/2026-03-12/
LOCATION:Pelham Library\, 2 South Valley Road \, Pelham\, MA\, 01002\, United States
CATEGORIES:Regular Event
ATTACH;FMTTYPE=image/jpeg:https://www.pelham-library.net/wp-content/uploads/2023/01/sara-coblyn-yoga-scaled.jpg
END:VEVENT
BEGIN:VEVENT
DTSTART;TZID=America/New_York:20260313T103000
DTEND;TZID=America/New_York:20260313T113000
DTSTAMP:20260423T215243
CREATED:20250902T211805Z
LAST-MODIFIED:20251218T225542Z
UID:10005822-1773397800-1773401400@www.pelham-library.net
SUMMARY:Playgroup & Storytime
DESCRIPTION:Bring your little one and join Caylin\, our playgroup coordinator\, for storytime and fun! This event\, sponsored by CES\, is open to all parents and caregivers of children from birth-5 and their little ones.
URL:https://www.pelham-library.net/event/playgroup-storytime-2/2026-03-13/
LOCATION:Pelham Library\, 2 South Valley Road \, Pelham\, MA\, 01002\, United States
ATTACH;FMTTYPE=image/jpeg:https://www.pelham-library.net/wp-content/uploads/2025/09/caylin.jpg
END:VEVENT
BEGIN:VEVENT
DTSTART;TZID=America/New_York:20260314T101500
DTEND;TZID=America/New_York:20260314T113000
DTSTAMP:20260423T215243
CREATED:20260115T215837Z
LAST-MODIFIED:20260207T150517Z
UID:10005876-1773483300-1773487800@www.pelham-library.net
SUMMARY:Qigong with Rema Boscov
DESCRIPTION:Qigong (pronounced chee gong)\, an ancient energy art\, is the precursor to Tai Chi\, with a focus on health and healing. The movements\, sometimes described as moving meditation\, are simple\, graceful\, and easy to learn. Wear comfortable shoes and clothing. No mats are needed. The class\, taught by Rema Boscov\, is open to all adults and teens\, and all abilities are welcome.
URL:https://www.pelham-library.net/event/qigong-with-rema-boscov-3-2-2-2/2026-03-14/
LOCATION:Pelham Library\, 2 South Valley Road \, Pelham\, MA\, 01002\, United States
ATTACH;FMTTYPE=image/jpeg:https://www.pelham-library.net/wp-content/uploads/2022/04/rema-white-bell-flowers.jpg
END:VEVENT
BEGIN:VEVENT
DTSTART;TZID=America/New_York:20260316T103000
DTEND;TZID=America/New_York:20260316T111500
DTSTAMP:20260423T215243
CREATED:20250827T192944Z
LAST-MODIFIED:20260125T061824Z
UID:10005844-1773657000-1773659700@www.pelham-library.net
SUMMARY:Music for Little Ones with Wendy Plummer (yes\, it's outside of regular library hours)
DESCRIPTION:Join Wendy for songs and fingerplays on Monday mornings when you’ll have the library all to yourselves! This event is open to all parents and caregivers of infants\, toddlers and preschoolers and their little ones. PLEASE NOTE: This event occurs outside of regular library hours
URL:https://www.pelham-library.net/event/music-for-little-ones-with-wendy-plummer-8-copy-2-2/2026-03-16/
LOCATION:MA
CATEGORIES:Regular Event
ATTACH;FMTTYPE=image/jpeg:https://www.pelham-library.net/wp-content/uploads/2025/06/IMG_0335-scaled.jpg
END:VEVENT
BEGIN:VEVENT
DTSTART;TZID=America/New_York:20260316T170000
DTEND;TZID=America/New_York:20260316T190000
DTSTAMP:20260423T215243
CREATED:20260125T062712Z
LAST-MODIFIED:20260125T062712Z
UID:10005991-1773680400-1773687600@www.pelham-library.net
SUMMARY:D&D for Neurodiverse Young Adults
DESCRIPTION:This weekly Dungeons & Dragons game is run by and for autistic and similarly neurodivergent young adults (post-high school age). The group is currently full\, but if you’re interested in joining get in touch and we’ll let you know when space is available. Participants are invited to come for an informal hang-out starting at 3:00. The game starts at 5.
URL:https://www.pelham-library.net/event/dd-for-neurodiverse-young-adults-2/2026-03-16/
LOCATION:Pelham Library\, 2 South Valley Road \, Pelham\, MA\, 01002\, United States
ATTACH;FMTTYPE=image/jpeg:https://www.pelham-library.net/wp-content/uploads/2024/03/d20-neurodivergent.jpg
END:VEVENT
BEGIN:VEVENT
DTSTART;TZID=America/New_York:20260318T190000
DTEND;TZID=America/New_York:20260318T210000
DTSTAMP:20260423T215243
CREATED:20260209T164609Z
LAST-MODIFIED:20260224T204110Z
UID:10006051-1773860400-1773867600@www.pelham-library.net
SUMMARY:BOOK GROUP: "David Copperfield"
DESCRIPTION:This month’s title is “David Copperfield” by Charles Dickins. All are welcome and copies are available at the desk.
URL:https://www.pelham-library.net/event/book-group-david-copperfield/
LOCATION:Pelham Library\, 2 South Valley Road \, Pelham\, MA\, 01002\, United States
ATTACH;FMTTYPE=image/jpeg:https://www.pelham-library.net/wp-content/uploads/2026/02/51adF-16bgL._SL240_CATL225225_RO11210000008_.jpg
END:VEVENT
BEGIN:VEVENT
DTSTART;TZID=America/New_York:20260319T150000
DTEND;TZID=America/New_York:20260319T163000
DTSTAMP:20260423T215243
CREATED:20260309T192434Z
LAST-MODIFIED:20260309T192434Z
UID:10006058-1773932400-1773937800@www.pelham-library.net
SUMMARY:Pelham Revolutionary War Soldiers History Research Workshop
DESCRIPTION:Help us track down Pelham’s Revolutionary War soldiers! Approximately 150 Pelham men served during the Revolutionary War\, but details of their lives\, service\, and burial locations are scattered across different books\, databases\, and archival documents. Come join us at the library for a History Research Workshop\, where you will learn about the sources for this local history project and then try your hand at tracking down some of the information we still need. \nEach workshop is limited to 5 participants. Please register at https://tally.so/r/44kXbr \nPlease bring a laptop! We will spend the first 10-15 minutes introducing the sources and how to navigate them\, and then everyone will be given a name to track down more information. \nThe research from these workshops will feed into a Pelham Historical Society tour of Revolutionary War veteran graves at Cook-Johnson Cemetery on July 25th. The research also helps DAR’s Betty Allen Chapter\, which has taken on a massive project to locate and restore the graves of Revolutionary War soldiers across all Hampshire County cemeteries. \nIf you have any questions\, contact Allegra at pelhamhistoryroomcoordinator@gmail.com.
URL:https://www.pelham-library.net/event/pelham-revolutionary-war-soldiers-history-research-workshop/
LOCATION:MA
ATTACH;FMTTYPE=image/jpeg:https://www.pelham-library.net/wp-content/uploads/2026/03/JamesAbercrombie_1832ServiceDeclaration_crop-square.jpg
END:VEVENT
BEGIN:VEVENT
DTSTART;TZID=America/New_York:20260319T173000
DTEND;TZID=America/New_York:20260319T184500
DTSTAMP:20260423T215243
CREATED:20250904T203550Z
LAST-MODIFIED:20260106T221436Z
UID:10005772-1773941400-1773945900@www.pelham-library.net
SUMMARY:Yoga with Sara Coblyn
DESCRIPTION:Join us on Thursdays for an adult vinyassa style yoga class led by Sara Coblyn of Sweet Roots Gardens. Please bring a mat. No registration is needed and drop-ins are welcome!
URL:https://www.pelham-library.net/event/yoga-with-sara-coblyn-2/2026-03-19/
LOCATION:Pelham Library\, 2 South Valley Road \, Pelham\, MA\, 01002\, United States
CATEGORIES:Regular Event
ATTACH;FMTTYPE=image/jpeg:https://www.pelham-library.net/wp-content/uploads/2023/01/sara-coblyn-yoga-scaled.jpg
END:VEVENT
BEGIN:VEVENT
DTSTART;TZID=America/New_York:20260320T103000
DTEND;TZID=America/New_York:20260320T113000
DTSTAMP:20260423T215243
CREATED:20250902T211805Z
LAST-MODIFIED:20251218T225542Z
UID:10005823-1774002600-1774006200@www.pelham-library.net
SUMMARY:Playgroup & Storytime
DESCRIPTION:Bring your little one and join Caylin\, our playgroup coordinator\, for storytime and fun! This event\, sponsored by CES\, is open to all parents and caregivers of children from birth-5 and their little ones.
URL:https://www.pelham-library.net/event/playgroup-storytime-2/2026-03-20/
LOCATION:Pelham Library\, 2 South Valley Road \, Pelham\, MA\, 01002\, United States
ATTACH;FMTTYPE=image/jpeg:https://www.pelham-library.net/wp-content/uploads/2025/09/caylin.jpg
END:VEVENT
BEGIN:VEVENT
DTSTART;TZID=America/New_York:20260321T101500
DTEND;TZID=America/New_York:20260321T113000
DTSTAMP:20260423T215243
CREATED:20260115T215837Z
LAST-MODIFIED:20260207T150517Z
UID:10005877-1774088100-1774092600@www.pelham-library.net
SUMMARY:Qigong with Rema Boscov
DESCRIPTION:Qigong (pronounced chee gong)\, an ancient energy art\, is the precursor to Tai Chi\, with a focus on health and healing. The movements\, sometimes described as moving meditation\, are simple\, graceful\, and easy to learn. Wear comfortable shoes and clothing. No mats are needed. The class\, taught by Rema Boscov\, is open to all adults and teens\, and all abilities are welcome.
URL:https://www.pelham-library.net/event/qigong-with-rema-boscov-3-2-2-2/2026-03-21/
LOCATION:Pelham Library\, 2 South Valley Road \, Pelham\, MA\, 01002\, United States
ATTACH;FMTTYPE=image/jpeg:https://www.pelham-library.net/wp-content/uploads/2022/04/rema-white-bell-flowers.jpg
END:VEVENT
BEGIN:VEVENT
DTSTART;TZID=America/New_York:20260321T123000
DTEND;TZID=America/New_York:20260321T133000
DTSTAMP:20260423T215243
CREATED:20260224T213007Z
LAST-MODIFIED:20260224T213007Z
UID:10006054-1774096200-1774099800@www.pelham-library.net
SUMMARY:Nature Photography Workshop with Ed Comeau
DESCRIPTION:Whether you’re using a smartphone\, DSLR\, or mirrorless camera\, this workshop will help you get more out of your camera and improve your photos. Nature photographer Ed Comeau will lead a presentation covering core photography concepts that include composition\, lighting\, framing\, depth of field\, and more. The workshop is designed for beginners and casual photographers and focuses on techniques that apply across all types of cameras and devices. \nEd’s photography centers on landscapes and wildlife of the Quabbin Reservoir region\, as well as images from Maine\, Alaska\, and other locations. His work has been exhibited in a number of places in the valley as well as featured in the Country Bank calendar for the past two years. You can find his work at www.comeauphotography.com and on Instagram @edcomeauphotography.
URL:https://www.pelham-library.net/event/nature-photography-workshop-with-ed-comeau/
LOCATION:Pelham Library\, 2 South Valley Road \, Pelham\, MA\, 01002\, United States
ATTACH;FMTTYPE=image/jpeg:https://www.pelham-library.net/wp-content/uploads/2026/02/Nature-Photography.jpg
END:VEVENT
BEGIN:VEVENT
DTSTART;TZID=America/New_York:20260323T103000
DTEND;TZID=America/New_York:20260323T111500
DTSTAMP:20260423T215243
CREATED:20250827T192944Z
LAST-MODIFIED:20260125T061824Z
UID:10005845-1774261800-1774264500@www.pelham-library.net
SUMMARY:Music for Little Ones with Wendy Plummer (yes\, it's outside of regular library hours)
DESCRIPTION:Join Wendy for songs and fingerplays on Monday mornings when you’ll have the library all to yourselves! This event is open to all parents and caregivers of infants\, toddlers and preschoolers and their little ones. PLEASE NOTE: This event occurs outside of regular library hours
URL:https://www.pelham-library.net/event/music-for-little-ones-with-wendy-plummer-8-copy-2-2/2026-03-23/
LOCATION:MA
CATEGORIES:Regular Event
ATTACH;FMTTYPE=image/jpeg:https://www.pelham-library.net/wp-content/uploads/2025/06/IMG_0335-scaled.jpg
END:VEVENT
BEGIN:VEVENT
DTSTART;TZID=America/New_York:20260323T170000
DTEND;TZID=America/New_York:20260323T190000
DTSTAMP:20260423T215243
CREATED:20260125T062712Z
LAST-MODIFIED:20260125T062712Z
UID:10005992-1774285200-1774292400@www.pelham-library.net
SUMMARY:D&D for Neurodiverse Young Adults
DESCRIPTION:This weekly Dungeons & Dragons game is run by and for autistic and similarly neurodivergent young adults (post-high school age). The group is currently full\, but if you’re interested in joining get in touch and we’ll let you know when space is available. Participants are invited to come for an informal hang-out starting at 3:00. The game starts at 5.
URL:https://www.pelham-library.net/event/dd-for-neurodiverse-young-adults-2/2026-03-23/
LOCATION:Pelham Library\, 2 South Valley Road \, Pelham\, MA\, 01002\, United States
ATTACH;FMTTYPE=image/jpeg:https://www.pelham-library.net/wp-content/uploads/2024/03/d20-neurodivergent.jpg
END:VEVENT
BEGIN:VEVENT
DTSTART;TZID=America/New_York:20260324T173000
DTEND;TZID=America/New_York:20260324T190000
DTSTAMP:20260423T215243
CREATED:20260303T201558Z
LAST-MODIFIED:20260303T201558Z
UID:10006056-1774373400-1774378800@www.pelham-library.net
SUMMARY:Author Talk: Corinne Demas
DESCRIPTION:Join us in welcoming Corinne Demas\, author of the recently published “Daughters: A Novel”. Corinne  is the award-winning author of thirty-nine books\, including seven novels\, two short story collections\, a memoir\,  a poetry collection\, and numerous books for children. She is a Professor Emerita of English at Mount Holyoke College and lives in the Pioneer Valley with her family\, two donkeys\, and a precocious puppy. Refreshments will be served.
URL:https://www.pelham-library.net/event/author-talk-corinne-demas/
LOCATION:Pelham Library\, 2 South Valley Road \, Pelham\, MA\, 01002\, United States
ATTACH;FMTTYPE=image/png:https://www.pelham-library.net/wp-content/uploads/2026/03/Corinne-Daughters.png
END:VEVENT
BEGIN:VEVENT
DTSTART;TZID=America/New_York:20260325T080000
DTEND;TZID=America/New_York:20260325T170000
DTSTAMP:20260423T215243
CREATED:20251216T040347Z
LAST-MODIFIED:20251216T040904Z
UID:10005858-1774425600-1774458000@www.pelham-library.net
SUMMARY:Teen/Tween Dungeons & Dragons (currently FULL)
DESCRIPTION:Teens & Tweens Only! This program is currently FULL. Please call or email if you’re interested in joining the waitlist for our campaign led by Dungeon Master Tony Page.
URL:https://www.pelham-library.net/event/teen-tween-dungeons-dragons-currently-full-2/2026-03-25/
LOCATION:Pelham Library\, 2 South Valley Road \, Pelham\, MA\, 01002\, United States
CATEGORIES:Regular Event
ATTACH;FMTTYPE=image/jpeg:https://www.pelham-library.net/wp-content/uploads/2023/01/dnd.jpg
END:VEVENT
BEGIN:VEVENT
DTSTART;TZID=America/New_York:20260326T173000
DTEND;TZID=America/New_York:20260326T184500
DTSTAMP:20260423T215243
CREATED:20250904T203550Z
LAST-MODIFIED:20260106T221436Z
UID:10005773-1774546200-1774550700@www.pelham-library.net
SUMMARY:Yoga with Sara Coblyn
DESCRIPTION:Join us on Thursdays for an adult vinyassa style yoga class led by Sara Coblyn of Sweet Roots Gardens. Please bring a mat. No registration is needed and drop-ins are welcome!
URL:https://www.pelham-library.net/event/yoga-with-sara-coblyn-2/2026-03-26/
LOCATION:Pelham Library\, 2 South Valley Road \, Pelham\, MA\, 01002\, United States
CATEGORIES:Regular Event
ATTACH;FMTTYPE=image/jpeg:https://www.pelham-library.net/wp-content/uploads/2023/01/sara-coblyn-yoga-scaled.jpg
END:VEVENT
BEGIN:VEVENT
DTSTART;TZID=America/New_York:20260327T103000
DTEND;TZID=America/New_York:20260327T113000
DTSTAMP:20260423T215243
CREATED:20250902T211805Z
LAST-MODIFIED:20251218T225542Z
UID:10005824-1774607400-1774611000@www.pelham-library.net
SUMMARY:Playgroup & Storytime
DESCRIPTION:Bring your little one and join Caylin\, our playgroup coordinator\, for storytime and fun! This event\, sponsored by CES\, is open to all parents and caregivers of children from birth-5 and their little ones.
URL:https://www.pelham-library.net/event/playgroup-storytime-2/2026-03-27/
LOCATION:Pelham Library\, 2 South Valley Road \, Pelham\, MA\, 01002\, United States
ATTACH;FMTTYPE=image/jpeg:https://www.pelham-library.net/wp-content/uploads/2025/09/caylin.jpg
END:VEVENT
BEGIN:VEVENT
DTSTART;TZID=America/New_York:20260328T101500
DTEND;TZID=America/New_York:20260328T113000
DTSTAMP:20260423T215243
CREATED:20260115T215837Z
LAST-MODIFIED:20260207T150517Z
UID:10005878-1774692900-1774697400@www.pelham-library.net
SUMMARY:Qigong with Rema Boscov
DESCRIPTION:Qigong (pronounced chee gong)\, an ancient energy art\, is the precursor to Tai Chi\, with a focus on health and healing. The movements\, sometimes described as moving meditation\, are simple\, graceful\, and easy to learn. Wear comfortable shoes and clothing. No mats are needed. The class\, taught by Rema Boscov\, is open to all adults and teens\, and all abilities are welcome.
URL:https://www.pelham-library.net/event/qigong-with-rema-boscov-3-2-2-2/2026-03-28/
LOCATION:Pelham Library\, 2 South Valley Road \, Pelham\, MA\, 01002\, United States
ATTACH;FMTTYPE=image/jpeg:https://www.pelham-library.net/wp-content/uploads/2022/04/rema-white-bell-flowers.jpg
END:VEVENT
BEGIN:VEVENT
DTSTART;TZID=America/New_York:20260328T120000
DTEND;TZID=America/New_York:20260328T140000
DTSTAMP:20260423T215243
CREATED:20260224T204349Z
LAST-MODIFIED:20260323T202024Z
UID:10006053-1774699200-1774706400@www.pelham-library.net
SUMMARY:Knife Sharpening Workshop
DESCRIPTION:Has your favorite knife lost its edge? Would you love to get it sharpened and learn more about how to care for your blades so they’ll last you a lifetime? James from Sharpen Something! will bring his sharpening equipment and expertise. Come learn knife care and get something sharpened! Please feel free to bring one knife for sharpening – serrated or straight edged. Please no blade lengths longer than 10 inches.
URL:https://www.pelham-library.net/event/knife-sharpening-workshop/
LOCATION:Pelham Library\, 2 South Valley Road \, Pelham\, MA\, 01002\, United States
ATTACH;FMTTYPE=image/jpeg:https://www.pelham-library.net/wp-content/uploads/2026/02/knife-sharpening.jpeg
END:VEVENT
BEGIN:VEVENT
DTSTART;TZID=America/New_York:20260330T103000
DTEND;TZID=America/New_York:20260330T111500
DTSTAMP:20260423T215243
CREATED:20250827T192944Z
LAST-MODIFIED:20260125T061824Z
UID:10005846-1774866600-1774869300@www.pelham-library.net
SUMMARY:Music for Little Ones with Wendy Plummer (yes\, it's outside of regular library hours)
DESCRIPTION:Join Wendy for songs and fingerplays on Monday mornings when you’ll have the library all to yourselves! This event is open to all parents and caregivers of infants\, toddlers and preschoolers and their little ones. PLEASE NOTE: This event occurs outside of regular library hours
URL:https://www.pelham-library.net/event/music-for-little-ones-with-wendy-plummer-8-copy-2-2/2026-03-30/
LOCATION:MA
CATEGORIES:Regular Event
ATTACH;FMTTYPE=image/jpeg:https://www.pelham-library.net/wp-content/uploads/2025/06/IMG_0335-scaled.jpg
END:VEVENT
END:VCALENDAR