BEGIN:VCALENDAR
VERSION:2.0
PRODID:-//Pelham Library - ECPv6.15.20//NONSGML v1.0//EN
CALSCALE:GREGORIAN
METHOD:PUBLISH
X-ORIGINAL-URL:https://www.pelham-library.net
X-WR-CALDESC:Events for Pelham Library
REFRESH-INTERVAL;VALUE=DURATION:PT1H
X-Robots-Tag:noindex
X-PUBLISHED-TTL:PT1H
BEGIN:VTIMEZONE
TZID:America/New_York
BEGIN:DAYLIGHT
TZOFFSETFROM:-0500
TZOFFSETTO:-0400
TZNAME:EDT
DTSTART:20240310T070000
END:DAYLIGHT
BEGIN:STANDARD
TZOFFSETFROM:-0400
TZOFFSETTO:-0500
TZNAME:EST
DTSTART:20241103T060000
END:STANDARD
BEGIN:DAYLIGHT
TZOFFSETFROM:-0500
TZOFFSETTO:-0400
TZNAME:EDT
DTSTART:20250309T070000
END:DAYLIGHT
BEGIN:STANDARD
TZOFFSETFROM:-0400
TZOFFSETTO:-0500
TZNAME:EST
DTSTART:20251102T060000
END:STANDARD
BEGIN:DAYLIGHT
TZOFFSETFROM:-0500
TZOFFSETTO:-0400
TZNAME:EDT
DTSTART:20260308T070000
END:DAYLIGHT
BEGIN:STANDARD
TZOFFSETFROM:-0400
TZOFFSETTO:-0500
TZNAME:EST
DTSTART:20261101T060000
END:STANDARD
BEGIN:DAYLIGHT
TZOFFSETFROM:-0500
TZOFFSETTO:-0400
TZNAME:EDT
DTSTART:20270314T070000
END:DAYLIGHT
BEGIN:STANDARD
TZOFFSETFROM:-0400
TZOFFSETTO:-0500
TZNAME:EST
DTSTART:20271107T060000
END:STANDARD
END:VTIMEZONE
BEGIN:VEVENT
DTSTART;TZID=America/New_York:20260316T170000
DTEND;TZID=America/New_York:20260316T190000
DTSTAMP:20260424T071705
CREATED:20260125T062712Z
LAST-MODIFIED:20260125T062712Z
UID:10005991-1773680400-1773687600@www.pelham-library.net
SUMMARY:D&D for Neurodiverse Young Adults
DESCRIPTION:This weekly Dungeons & Dragons game is run by and for autistic and similarly neurodivergent young adults (post-high school age). The group is currently full\, but if you’re interested in joining get in touch and we’ll let you know when space is available. Participants are invited to come for an informal hang-out starting at 3:00. The game starts at 5.
URL:https://www.pelham-library.net/event/dd-for-neurodiverse-young-adults-2/2026-03-16/
LOCATION:Pelham Library\, 2 South Valley Road \, Pelham\, MA\, 01002\, United States
ATTACH;FMTTYPE=image/jpeg:https://www.pelham-library.net/wp-content/uploads/2024/03/d20-neurodivergent.jpg
END:VEVENT
BEGIN:VEVENT
DTSTART;TZID=America/New_York:20260316T103000
DTEND;TZID=America/New_York:20260316T111500
DTSTAMP:20260424T071705
CREATED:20250827T192944Z
LAST-MODIFIED:20260125T061824Z
UID:10005844-1773657000-1773659700@www.pelham-library.net
SUMMARY:Music for Little Ones with Wendy Plummer (yes\, it's outside of regular library hours)
DESCRIPTION:Join Wendy for songs and fingerplays on Monday mornings when you’ll have the library all to yourselves! This event is open to all parents and caregivers of infants\, toddlers and preschoolers and their little ones. PLEASE NOTE: This event occurs outside of regular library hours
URL:https://www.pelham-library.net/event/music-for-little-ones-with-wendy-plummer-8-copy-2-2/2026-03-16/
LOCATION:MA
CATEGORIES:Regular Event
ATTACH;FMTTYPE=image/jpeg:https://www.pelham-library.net/wp-content/uploads/2025/06/IMG_0335-scaled.jpg
END:VEVENT
BEGIN:VEVENT
DTSTART;TZID=America/New_York:20260314T101500
DTEND;TZID=America/New_York:20260314T113000
DTSTAMP:20260424T071705
CREATED:20260115T215837Z
LAST-MODIFIED:20260207T150517Z
UID:10005876-1773483300-1773487800@www.pelham-library.net
SUMMARY:Qigong with Rema Boscov
DESCRIPTION:Qigong (pronounced chee gong)\, an ancient energy art\, is the precursor to Tai Chi\, with a focus on health and healing. The movements\, sometimes described as moving meditation\, are simple\, graceful\, and easy to learn. Wear comfortable shoes and clothing. No mats are needed. The class\, taught by Rema Boscov\, is open to all adults and teens\, and all abilities are welcome.
URL:https://www.pelham-library.net/event/qigong-with-rema-boscov-3-2-2-2/2026-03-14/
LOCATION:Pelham Library\, 2 South Valley Road \, Pelham\, MA\, 01002\, United States
ATTACH;FMTTYPE=image/jpeg:https://www.pelham-library.net/wp-content/uploads/2022/04/rema-white-bell-flowers.jpg
END:VEVENT
BEGIN:VEVENT
DTSTART;TZID=America/New_York:20260313T103000
DTEND;TZID=America/New_York:20260313T113000
DTSTAMP:20260424T071705
CREATED:20250902T211805Z
LAST-MODIFIED:20251218T225542Z
UID:10005822-1773397800-1773401400@www.pelham-library.net
SUMMARY:Playgroup & Storytime
DESCRIPTION:Bring your little one and join Caylin\, our playgroup coordinator\, for storytime and fun! This event\, sponsored by CES\, is open to all parents and caregivers of children from birth-5 and their little ones.
URL:https://www.pelham-library.net/event/playgroup-storytime-2/2026-03-13/
LOCATION:Pelham Library\, 2 South Valley Road \, Pelham\, MA\, 01002\, United States
ATTACH;FMTTYPE=image/jpeg:https://www.pelham-library.net/wp-content/uploads/2025/09/caylin.jpg
END:VEVENT
BEGIN:VEVENT
DTSTART;TZID=America/New_York:20260312T173000
DTEND;TZID=America/New_York:20260312T184500
DTSTAMP:20260424T071705
CREATED:20250904T203550Z
LAST-MODIFIED:20260106T221436Z
UID:10005771-1773336600-1773341100@www.pelham-library.net
SUMMARY:Yoga with Sara Coblyn
DESCRIPTION:Join us on Thursdays for an adult vinyassa style yoga class led by Sara Coblyn of Sweet Roots Gardens. Please bring a mat. No registration is needed and drop-ins are welcome!
URL:https://www.pelham-library.net/event/yoga-with-sara-coblyn-2/2026-03-12/
LOCATION:Pelham Library\, 2 South Valley Road \, Pelham\, MA\, 01002\, United States
CATEGORIES:Regular Event
ATTACH;FMTTYPE=image/jpeg:https://www.pelham-library.net/wp-content/uploads/2023/01/sara-coblyn-yoga-scaled.jpg
END:VEVENT
BEGIN:VEVENT
DTSTART;TZID=America/New_York:20260311T080000
DTEND;TZID=America/New_York:20260311T170000
DTSTAMP:20260424T071705
CREATED:20251216T040347Z
LAST-MODIFIED:20251216T040904Z
UID:10005857-1773216000-1773248400@www.pelham-library.net
SUMMARY:Teen/Tween Dungeons & Dragons (currently FULL)
DESCRIPTION:Teens & Tweens Only! This program is currently FULL. Please call or email if you’re interested in joining the waitlist for our campaign led by Dungeon Master Tony Page.
URL:https://www.pelham-library.net/event/teen-tween-dungeons-dragons-currently-full-2/2026-03-11/
LOCATION:Pelham Library\, 2 South Valley Road \, Pelham\, MA\, 01002\, United States
CATEGORIES:Regular Event
ATTACH;FMTTYPE=image/jpeg:https://www.pelham-library.net/wp-content/uploads/2023/01/dnd.jpg
END:VEVENT
BEGIN:VEVENT
DTSTART;TZID=America/New_York:20260309T143000
DTEND;TZID=America/New_York:20260309T153000
DTSTAMP:20260424T071705
CREATED:20240912T201305Z
LAST-MODIFIED:20260204T215402Z
UID:10006037-1773066600-1773070200@www.pelham-library.net
SUMMARY:State Rep. Aaron Saunders Open Office Hours
DESCRIPTION:Come meet your state representative. Bring your questions and concerns.
URL:https://www.pelham-library.net/event/state-rep-aaron-saunders-open-office-hours-2-copy-copy-copy-2/2026-03-09/
LOCATION:Pelham Library\, 2 South Valley Road \, Pelham\, MA\, 01002\, United States
ATTACH;FMTTYPE=image/jpeg:https://www.pelham-library.net/wp-content/uploads/2023/06/aaron-saunders.jpg
END:VEVENT
BEGIN:VEVENT
DTSTART;VALUE=DATE:20260303
DTEND;VALUE=DATE:20260304
DTSTAMP:20260424T071705
CREATED:20260303T194351Z
LAST-MODIFIED:20260303T194351Z
UID:10006055-1772496000-1772582399@www.pelham-library.net
SUMMARY:CLOSED: SNOW
DESCRIPTION:
URL:https://www.pelham-library.net/event/closed-snow/
LOCATION:Pelham Library\, 2 South Valley Road \, Pelham\, MA\, 01002\, United States
END:VEVENT
BEGIN:VEVENT
DTSTART;TZID=America/New_York:20260228T123000
DTEND;TZID=America/New_York:20260228T140000
DTSTAMP:20260424T071705
CREATED:20260206T172240Z
LAST-MODIFIED:20260206T172240Z
UID:10006047-1772281800-1772287200@www.pelham-library.net
SUMMARY:The Amazing Story of Armored Mud Balls with Professor Richard Little
DESCRIPTION:Franklin County is home to Jurassic Armored Mud Balls\, one of the rarest sedimentary rock structures on the planet. In fact\, it’s the only place in the world where you can easily see\, touch and study these geological oddities. Prof. Little\, the discoverer of these intriguing features\, will explain how he found them\, how they form and why they are so rare.  \nThe Armored Mud Ball saga is a story of plate tectonics\, floods\, climate change and other geological events. It’s also a human story of the birth of a suspension bridge\, the death of a bowling alley and a fortuitous field trip picnic! After the program\, see if you agree with Prof. Little that Jurassic Mud Balls are important enough to become an official Massachusetts State “Sedimentary Structure!”
URL:https://www.pelham-library.net/event/the-amazing-story-of-armored-mud-balls-with-professor-richard-little/
LOCATION:Pelham Library\, 2 South Valley Road \, Pelham\, MA\, 01002\, United States
ATTACH;FMTTYPE=image/jpeg:https://www.pelham-library.net/wp-content/uploads/2026/01/Armored-mudball.jpg
END:VEVENT
BEGIN:VEVENT
DTSTART;TZID=America/New_York:20260224T173000
DTEND;TZID=America/New_York:20260224T190000
DTSTAMP:20260424T071705
CREATED:20260209T161926Z
LAST-MODIFIED:20260209T161926Z
UID:10006050-1771954200-1771959600@www.pelham-library.net
SUMMARY:Eyes on Freedom: Evolving Gifts of Simple Nonviolent Living
DESCRIPTION:Folklorists Michael and Carrie Kline present a community listening session of Eyes on Freedom: Evolving Gifts of Simple Nonviolent Living\, an episode from their audio podcast\, Talking Across Lines. Eyes on Freedom tells the story of Wally and Juanita Nelson\, civil rights activists\, peace activists\, war tax refusers\, subsistence farmers\, and advocates for simple living.  \nThe Klines have created an hour-long oral tapestry that weaves oral testimonies and interviews from those who knew the Nelsons and who were deeply impacted by them. They have created a conversation on the themes of the Nelsons’ lives: nonviolence\, war tax refusal\, joy\, dance\, land trusts\, the action around the Kehler-Corner home seizure in Colrain by the IRS\, the local food movement\, questioning the idea of race\, and simple living. Listen to the podcast with us and then join us for a discussion on the Nelsons’ legacy.
URL:https://www.pelham-library.net/event/eyes-on-freedom-evolving-gifts-of-simple-nonviolent-living-2/
LOCATION:Pelham Library\, 2 South Valley Road \, Pelham\, MA\, 01002\, United States
ATTACH;FMTTYPE=image/jpeg:https://www.pelham-library.net/wp-content/uploads/2025/03/Wally-Juanita-Nelson.jpg
END:VEVENT
BEGIN:VEVENT
DTSTART;TZID=America/New_York:20260221T123000
DTEND;TZID=America/New_York:20260221T140000
DTSTAMP:20260424T071705
CREATED:20260209T204925Z
LAST-MODIFIED:20260209T204959Z
UID:10006052-1771677000-1771682400@www.pelham-library.net
SUMMARY:iNaturalist 2026 New England and New York Plants ID-a-thon
DESCRIPTION:Bring your laptop and your plant knowledge\, join the fun\, and make a contribution to science! This event us part of the fifth annual ID-a-thon for New England and New York plants\, a 48-hour period in which we try to add identifications to as many iNaturalist Needs ID plant observations in New England and New York as we possibly can. You don’t have to be an expert botanist to participate just someone who knows a little about New England or New York plants and wants to help other naturalists. New to iNaturalist? We’ll have people on hand to help you get started!  \nFor more information visit https://www.inaturalist.org/projects/2026-new-england-and-new-york-plants-id-a-thon-feb-20-22
URL:https://www.pelham-library.net/event/inaturalist-2026-new-england-and-new-york-plants-id-a-thon/
LOCATION:Pelham Library\, 2 South Valley Road \, Pelham\, MA\, 01002\, United States
ATTACH;FMTTYPE=image/jpeg:https://www.pelham-library.net/wp-content/uploads/2026/02/inat-identification.jpg
END:VEVENT
BEGIN:VEVENT
DTSTART;TZID=America/New_York:20260218T080000
DTEND;TZID=America/New_York:20260218T170000
DTSTAMP:20260424T071705
CREATED:20250925T220009Z
LAST-MODIFIED:20250925T220009Z
UID:10005795-1771401600-1771434000@www.pelham-library.net
SUMMARY:Monthly Community Reiki Share with Kristen Famighette
DESCRIPTION:Join us for a monthly Reiki circle to share and receive Reiki. This monthly program is open to both Reiki practitioners and members of the community. No prior Reiki or meditation experience is required. Learn more about Kristin at www.sharesoulmagic.com
URL:https://www.pelham-library.net/event/monthly-community-reiki-share-with-kristen-famighette-2/2026-02-18/
LOCATION:Pelham Library\, 2 South Valley Road \, Pelham\, MA\, 01002\, United States
ATTACH;FMTTYPE=image/png:https://www.pelham-library.net/wp-content/uploads/2025/09/Monthly-Reiki-Share-Fall-2025.png
END:VEVENT
BEGIN:VEVENT
DTSTART;TZID=America/New_York:20260217T173000
DTEND;TZID=America/New_York:20260217T190000
DTSTAMP:20260424T071705
CREATED:20260204T185833Z
LAST-MODIFIED:20260204T185833Z
UID:10006033-1771349400-1771354800@www.pelham-library.net
SUMMARY:Chocolate Tasting: From Bean to Bar to Palate
DESCRIPTION:Come learn about chocolate from bean to bar to palate in a Chocolate Tasting Workshop with chef\, author and culinary expert Dede Wilson. Come for a virtual tour of cacao production\, from choosing and harvesting beans\, to drying and fermentation techniques\, to creating the “recipe” that leads to the chocolate bars that we eat. Then\, learn how to truly appreciate and assess chocolate\, with all of your senses\, through a tasting of different varieties and sources from around the globe. Learn why two 70% chocolates taste different from one another\, how to read a label to determine chocolate quality\, why one chocolate that is good for eating might not be for baking and what makes a chocolate “best” in its class.  \nAges 14 & up\, please. Space is limited. Sign up at https://www.signupgenius.com/go/10C0D4EAAA72EA3FEC61-61991845-chocolate#/
URL:https://www.pelham-library.net/event/chocolate-tasting-from-bean-to-bar-to-palate/
LOCATION:Pelham Library\, 2 South Valley Road \, Pelham\, MA\, 01002\, United States
ATTACH;FMTTYPE=image/jpeg:https://www.pelham-library.net/wp-content/uploads/2026/02/chocolate.jpg
END:VEVENT
BEGIN:VEVENT
DTSTART;VALUE=DATE:20260216
DTEND;VALUE=DATE:20260217
DTSTAMP:20260424T071705
CREATED:20260125T062913Z
LAST-MODIFIED:20260125T062913Z
UID:10006029-1771200000-1771286399@www.pelham-library.net
SUMMARY:CLOSED: Presidents' Day
DESCRIPTION:
URL:https://www.pelham-library.net/event/closed-presidents-day-2/
LOCATION:Pelham Library\, 2 South Valley Road \, Pelham\, MA\, 01002\, United States
END:VEVENT
BEGIN:VEVENT
DTSTART;TZID=America/New_York:20260207T123000
DTEND;TZID=America/New_York:20260207T140000
DTSTAMP:20260424T071705
CREATED:20260127T220440Z
LAST-MODIFIED:20260206T172340Z
UID:10006032-1770467400-1770472800@www.pelham-library.net
SUMMARY:POSTPONED--PLEASE JOIN US ON 2/28: The Amazing Story of Armored Mud Balls with Professor Richard Little
DESCRIPTION:Franklin County is home to Jurassic Armored Mud Balls\, one of the rarest sedimentary rock structures on the planet. In fact\, it’s the only place in the world where you can easily see\, touch and study these geological oddities. Prof. Little\, the discoverer of these intriguing features\, will explain how he found them\, how they form and why they are so rare.  \nThe Armored Mud Ball saga is a story of plate tectonics\, floods\, climate change and other geological events. It’s also a human story of the birth of a suspension bridge\, the death of a bowling alley and a fortuitous field trip picnic! After the program\, see if you agree with Prof. Little that Jurassic Mud Balls are important enough to become an official Massachusetts State “Sedimentary Structure!”
URL:https://www.pelham-library.net/event/the-amazing-story-of-aromord-mud-balls-with-professor-richard-little/
LOCATION:Pelham Library\, 2 South Valley Road \, Pelham\, MA\, 01002\, United States
ATTACH;FMTTYPE=image/jpeg:https://www.pelham-library.net/wp-content/uploads/2026/01/Armored-mudball.jpg
END:VEVENT
BEGIN:VEVENT
DTSTART;VALUE=DATE:20260207
DTEND;VALUE=DATE:20260208
DTSTAMP:20260424T071705
CREATED:20260207T145453Z
LAST-MODIFIED:20260207T145453Z
UID:10006048-1770422400-1770508799@www.pelham-library.net
SUMMARY:CLOSED DUE TO SNOW
DESCRIPTION:
URL:https://www.pelham-library.net/event/closed-due-to-snow-2/
LOCATION:Pelham Library\, 2 South Valley Road \, Pelham\, MA\, 01002\, United States
END:VEVENT
BEGIN:VEVENT
DTSTART;TZID=America/New_York:20260128T190000
DTEND;TZID=America/New_York:20260128T210000
DTSTAMP:20260424T071705
CREATED:20260107T203703Z
LAST-MODIFIED:20260107T203703Z
UID:10005897-1769626800-1769634000@www.pelham-library.net
SUMMARY:BOOK GROUP: The Hungry Tide
DESCRIPTION:This month’s title is “The Hungry Tide” by Amitav Ghosh. All are welcome and copies are available at the desk.
URL:https://www.pelham-library.net/event/book-group-the-hungry-tide/
LOCATION:Pelham Library\, 2 South Valley Road \, Pelham\, MA\, 01002\, United States
ATTACH;FMTTYPE=image/jpeg:https://www.pelham-library.net/wp-content/uploads/2026/01/Hungry-Tide.jpg
END:VEVENT
BEGIN:VEVENT
DTSTART;VALUE=DATE:20260126
DTEND;VALUE=DATE:20260127
DTSTAMP:20260424T071705
CREATED:20260125T061353Z
LAST-MODIFIED:20260125T061353Z
UID:10005901-1769385600-1769471999@www.pelham-library.net
SUMMARY:CLOSED DUE TO SNOW
DESCRIPTION:
URL:https://www.pelham-library.net/event/closed-due-to-snow/
LOCATION:Pelham Library\, 2 South Valley Road \, Pelham\, MA\, 01002\, United States
END:VEVENT
BEGIN:VEVENT
DTSTART;VALUE=DATE:20260119
DTEND;VALUE=DATE:20260120
DTSTAMP:20260424T071705
CREATED:20260125T063003Z
LAST-MODIFIED:20260125T063003Z
UID:10006030-1768780800-1768867199@www.pelham-library.net
SUMMARY:CLOSED: MLK Jr. Day
DESCRIPTION:
URL:https://www.pelham-library.net/event/closed-mlk-jr-day/
LOCATION:Pelham Library\, 2 South Valley Road \, Pelham\, MA\, 01002\, United States
END:VEVENT
BEGIN:VEVENT
DTSTART;TZID=America/New_York:20260117T100000
DTEND;TZID=America/New_York:20260117T140000
DTSTAMP:20260424T071705
CREATED:20260117T155407Z
LAST-MODIFIED:20260117T155407Z
UID:10005899-1768644000-1768658400@www.pelham-library.net
SUMMARY:SNOW DAY WE ARE CLOSED TODAY
DESCRIPTION:It is beautiful outside….but we are not plowed and sanded yet so we will take a snow day today.
URL:https://www.pelham-library.net/event/snow-day-we-are-closed-today/
LOCATION:Pelham Library\, 2 South Valley Road \, Pelham\, MA\, 01002\, United States
END:VEVENT
BEGIN:VEVENT
DTSTART;TZID=America/New_York:20260115T173000
DTEND;TZID=America/New_York:20260115T183000
DTSTAMP:20260424T071705
CREATED:20260113T220744Z
LAST-MODIFIED:20260113T220744Z
UID:10005898-1768498200-1768501800@www.pelham-library.net
SUMMARY:Substitute Yoga Teacher this Week
DESCRIPTION:Sara is out this week\, so class member Kris Clausen\, a certified yoga teacher since 2012\, will be filling in on Thursday. Come join us! Sara will return next week.
URL:https://www.pelham-library.net/event/substitute-yoga-teacher-this-week/
LOCATION:Pelham Library\, 2 South Valley Road \, Pelham\, MA\, 01002\, United States
ATTACH;FMTTYPE=image/jpeg:https://www.pelham-library.net/wp-content/uploads/2026/01/images.jpg
END:VEVENT
BEGIN:VEVENT
DTSTART;VALUE=DATE:20260101
DTEND;VALUE=DATE:20260102
DTSTAMP:20260424T071705
CREATED:20171220T033157Z
LAST-MODIFIED:20220908T203149Z
UID:10005065-1767225600-1767311999@www.pelham-library.net
SUMMARY:CLOSED: New Year's Day
DESCRIPTION:The Library will be CLOSED today. Happy New Year!
URL:https://www.pelham-library.net/event/closed-new-years-day/2026-01-01/
LOCATION:Pelham Library\, 2 South Valley Road \, Pelham\, MA\, 01002\, United States
CATEGORIES:Closed
END:VEVENT
BEGIN:VEVENT
DTSTART;VALUE=DATE:20251231
DTEND;VALUE=DATE:20260101
DTSTAMP:20260424T071705
CREATED:20251216T041055Z
LAST-MODIFIED:20251216T041055Z
UID:10005865-1767139200-1767225599@www.pelham-library.net
SUMMARY:CLOSED: New Year's Eve
DESCRIPTION:
URL:https://www.pelham-library.net/event/closed-new-years-eve-2/
LOCATION:Pelham Library\, 2 South Valley Road \, Pelham\, MA\, 01002\, United States
END:VEVENT
BEGIN:VEVENT
DTSTART;VALUE=DATE:20251225
DTEND;VALUE=DATE:20251226
DTSTAMP:20260424T071705
CREATED:20240912T202453Z
LAST-MODIFIED:20240912T202453Z
UID:10005297-1766620800-1766707199@www.pelham-library.net
SUMMARY:CLOSED: Christmas
DESCRIPTION:
URL:https://www.pelham-library.net/event/closed-christmas/2025-12-25/
LOCATION:Pelham Library\, 2 South Valley Road \, Pelham\, MA\, 01002\, United States
CATEGORIES:Closed
END:VEVENT
BEGIN:VEVENT
DTSTART;VALUE=DATE:20251224
DTEND;VALUE=DATE:20251225
DTSTAMP:20260424T071705
CREATED:20181106T204426Z
LAST-MODIFIED:20190123T044011Z
UID:10005073-1766534400-1766620799@www.pelham-library.net
SUMMARY:CLOSED: CHRISTMAS EVE
DESCRIPTION:To allow our staff to spend time with their families we will be closed this evening.
URL:https://www.pelham-library.net/event/closed-christmas-eve/2025-12-24/
LOCATION:Pelham Library\, 2 South Valley Road \, Pelham\, MA\, 01002\, United States
CATEGORIES:Closed
END:VEVENT
BEGIN:VEVENT
DTSTART;TZID=America/New_York:20251217T190000
DTEND;TZID=America/New_York:20251217T210000
DTSTAMP:20260424T071705
CREATED:20251106T224250Z
LAST-MODIFIED:20251106T224250Z
UID:10005811-1765998000-1766005200@www.pelham-library.net
SUMMARY:BOOK GROUP: "Harry's Trees"
DESCRIPTION:This month’s title is “Harry’s Trees” by Jon Cohen. All are welcome and copies are available at the desk.
URL:https://www.pelham-library.net/event/book-group-harrys-trees/
LOCATION:Pelham Library\, 2 South Valley Road \, Pelham\, MA\, 01002\, United States
ATTACH;FMTTYPE=image/jpeg:https://www.pelham-library.net/wp-content/uploads/2025/11/harrys-trees.jpg
END:VEVENT
BEGIN:VEVENT
DTSTART;TZID=America/New_York:20251205T100000
DTEND;TZID=America/New_York:20251205T110000
DTSTAMP:20260424T071705
CREATED:20251124T161009Z
LAST-MODIFIED:20251124T161009Z
UID:10005834-1764928800-1764932400@www.pelham-library.net
SUMMARY:Fire Safety Workshop
DESCRIPTION:Learn how to be aware of fire safety as the cold weather approaches. Bring your questions about space heaters\, CFL lightbulb use and  disposal\, chimney cleaning\, reducing the risk of brush fires around your home and more. \nThis program\, co-sponsored by the Pelham Council on Aging\,is presented by Captain Jeffrey Haughey of the Belchertown Fire Department.
URL:https://www.pelham-library.net/event/fire-safety-workshop-2/
LOCATION:Pelham Library\, 2 South Valley Road \, Pelham\, MA\, 01002\, United States
ATTACH;FMTTYPE=image/jpeg:https://www.pelham-library.net/wp-content/uploads/2025/04/Fire-safety-250x173-1.jpg
END:VEVENT
BEGIN:VEVENT
DTSTART;VALUE=DATE:20251127
DTEND;VALUE=DATE:20251129
DTSTAMP:20260424T071705
CREATED:20250827T175717Z
LAST-MODIFIED:20250827T175717Z
UID:10005613-1764201600-1764374399@www.pelham-library.net
SUMMARY:CLOSED: THANKSGIVING
DESCRIPTION:
URL:https://www.pelham-library.net/event/closed-thanksgiving-2/
LOCATION:Pelham Library\, 2 South Valley Road \, Pelham\, MA\, 01002\, United States
END:VEVENT
BEGIN:VEVENT
DTSTART;TZID=America/New_York:20251126T131500
DTEND;TZID=America/New_York:20251126T151500
DTSTAMP:20260424T071705
CREATED:20250902T214603Z
LAST-MODIFIED:20250902T214709Z
UID:10005701-1764162900-1764170100@www.pelham-library.net
SUMMARY:Pelham Writer's Group (currently FULL)
DESCRIPTION:Join Pelham seniors to explore writing your life story with Nancy Rose Weeber. NOTE: This program is currently FULL. If you’d like to be added to the waiting list please let us know.
URL:https://www.pelham-library.net/event/currently-full-pelham-writers-group/2025-11-26/
LOCATION:Pelham Library\, 2 South Valley Road \, Pelham\, MA\, 01002\, United States
ATTACH;FMTTYPE=image/png:https://www.pelham-library.net/wp-content/uploads/2025/09/Writers-Group.png
END:VEVENT
BEGIN:VEVENT
DTSTART;TZID=America/New_York:20251118T190000
DTEND;TZID=America/New_York:20251118T210000
DTSTAMP:20260424T071705
CREATED:20251104T220124Z
LAST-MODIFIED:20251104T220124Z
UID:10005801-1763492400-1763499600@www.pelham-library.net
SUMMARY:Antique Bottles
DESCRIPTION:Until the late 19th century\, glass bottles were hand-blown\, so each one was unique. Amherst resident Jim Thomas\, a past president of the Berkshire Antique Bottle Association\, will explain how the bottle’s shape\, color. and presence of embossing are all clues to its age and provenance. He will share stories and samples from his extensive collection.  Bring in an antique bottle or two of your own for Mr. Thomas to evaluate! This event is co-sponsored with the Pelham Historical Society.
URL:https://www.pelham-library.net/event/antique-bottles/
LOCATION:Pelham Library\, 2 South Valley Road \, Pelham\, MA\, 01002\, United States
ATTACH;FMTTYPE=image/jpeg:https://www.pelham-library.net/wp-content/uploads/2025/11/IMG_1675-1.jpeg
END:VEVENT
END:VCALENDAR