BEGIN:VCALENDAR
VERSION:2.0
PRODID:-//Pelham Library - ECPv6.15.20//NONSGML v1.0//EN
CALSCALE:GREGORIAN
METHOD:PUBLISH
X-WR-CALNAME:Pelham Library
X-ORIGINAL-URL:https://www.pelham-library.net
X-WR-CALDESC:Events for Pelham Library
REFRESH-INTERVAL;VALUE=DURATION:PT1H
X-Robots-Tag:noindex
X-PUBLISHED-TTL:PT1H
BEGIN:VTIMEZONE
TZID:America/New_York
BEGIN:DAYLIGHT
TZOFFSETFROM:-0500
TZOFFSETTO:-0400
TZNAME:EDT
DTSTART:20250309T070000
END:DAYLIGHT
BEGIN:STANDARD
TZOFFSETFROM:-0400
TZOFFSETTO:-0500
TZNAME:EST
DTSTART:20251102T060000
END:STANDARD
BEGIN:DAYLIGHT
TZOFFSETFROM:-0500
TZOFFSETTO:-0400
TZNAME:EDT
DTSTART:20260308T070000
END:DAYLIGHT
BEGIN:STANDARD
TZOFFSETFROM:-0400
TZOFFSETTO:-0500
TZNAME:EST
DTSTART:20261101T060000
END:STANDARD
BEGIN:DAYLIGHT
TZOFFSETFROM:-0500
TZOFFSETTO:-0400
TZNAME:EDT
DTSTART:20270314T070000
END:DAYLIGHT
BEGIN:STANDARD
TZOFFSETFROM:-0400
TZOFFSETTO:-0500
TZNAME:EST
DTSTART:20271107T060000
END:STANDARD
END:VTIMEZONE
BEGIN:VEVENT
DTSTART;TZID=America/New_York:20260223T103000
DTEND;TZID=America/New_York:20260223T111500
DTSTAMP:20260425T070729
CREATED:20250827T192944Z
LAST-MODIFIED:20260125T061824Z
UID:10005841-1771842600-1771845300@www.pelham-library.net
SUMMARY:Music for Little Ones with Wendy Plummer (yes\, it's outside of regular library hours)
DESCRIPTION:Join Wendy for songs and fingerplays on Monday mornings when you’ll have the library all to yourselves! This event is open to all parents and caregivers of infants\, toddlers and preschoolers and their little ones. PLEASE NOTE: This event occurs outside of regular library hours
URL:https://www.pelham-library.net/event/music-for-little-ones-with-wendy-plummer-8-copy-2-2/2026-02-23/
LOCATION:MA
CATEGORIES:Regular Event
ATTACH;FMTTYPE=image/jpeg:https://www.pelham-library.net/wp-content/uploads/2025/06/IMG_0335-scaled.jpg
END:VEVENT
BEGIN:VEVENT
DTSTART;TZID=America/New_York:20260223T170000
DTEND;TZID=America/New_York:20260223T190000
DTSTAMP:20260425T070729
CREATED:20260125T062712Z
LAST-MODIFIED:20260125T062712Z
UID:10005988-1771866000-1771873200@www.pelham-library.net
SUMMARY:D&D for Neurodiverse Young Adults
DESCRIPTION:This weekly Dungeons & Dragons game is run by and for autistic and similarly neurodivergent young adults (post-high school age). The group is currently full\, but if you’re interested in joining get in touch and we’ll let you know when space is available. Participants are invited to come for an informal hang-out starting at 3:00. The game starts at 5.
URL:https://www.pelham-library.net/event/dd-for-neurodiverse-young-adults-2/2026-02-23/
LOCATION:Pelham Library\, 2 South Valley Road \, Pelham\, MA\, 01002\, United States
ATTACH;FMTTYPE=image/jpeg:https://www.pelham-library.net/wp-content/uploads/2024/03/d20-neurodivergent.jpg
END:VEVENT
BEGIN:VEVENT
DTSTART;TZID=America/New_York:20260224T173000
DTEND;TZID=America/New_York:20260224T190000
DTSTAMP:20260425T070729
CREATED:20260209T161926Z
LAST-MODIFIED:20260209T161926Z
UID:10006050-1771954200-1771959600@www.pelham-library.net
SUMMARY:Eyes on Freedom: Evolving Gifts of Simple Nonviolent Living
DESCRIPTION:Folklorists Michael and Carrie Kline present a community listening session of Eyes on Freedom: Evolving Gifts of Simple Nonviolent Living\, an episode from their audio podcast\, Talking Across Lines. Eyes on Freedom tells the story of Wally and Juanita Nelson\, civil rights activists\, peace activists\, war tax refusers\, subsistence farmers\, and advocates for simple living.  \nThe Klines have created an hour-long oral tapestry that weaves oral testimonies and interviews from those who knew the Nelsons and who were deeply impacted by them. They have created a conversation on the themes of the Nelsons’ lives: nonviolence\, war tax refusal\, joy\, dance\, land trusts\, the action around the Kehler-Corner home seizure in Colrain by the IRS\, the local food movement\, questioning the idea of race\, and simple living. Listen to the podcast with us and then join us for a discussion on the Nelsons’ legacy.
URL:https://www.pelham-library.net/event/eyes-on-freedom-evolving-gifts-of-simple-nonviolent-living-2/
LOCATION:Pelham Library\, 2 South Valley Road \, Pelham\, MA\, 01002\, United States
ATTACH;FMTTYPE=image/jpeg:https://www.pelham-library.net/wp-content/uploads/2025/03/Wally-Juanita-Nelson.jpg
END:VEVENT
BEGIN:VEVENT
DTSTART;TZID=America/New_York:20260225T080000
DTEND;TZID=America/New_York:20260225T170000
DTSTAMP:20260425T070730
CREATED:20251216T040347Z
LAST-MODIFIED:20251216T040904Z
UID:10005856-1772006400-1772038800@www.pelham-library.net
SUMMARY:Teen/Tween Dungeons & Dragons (currently FULL)
DESCRIPTION:Teens & Tweens Only! This program is currently FULL. Please call or email if you’re interested in joining the waitlist for our campaign led by Dungeon Master Tony Page.
URL:https://www.pelham-library.net/event/teen-tween-dungeons-dragons-currently-full-2/2026-02-25/
LOCATION:Pelham Library\, 2 South Valley Road \, Pelham\, MA\, 01002\, United States
CATEGORIES:Regular Event
ATTACH;FMTTYPE=image/jpeg:https://www.pelham-library.net/wp-content/uploads/2023/01/dnd.jpg
END:VEVENT
BEGIN:VEVENT
DTSTART;TZID=America/New_York:20260226T173000
DTEND;TZID=America/New_York:20260226T184500
DTSTAMP:20260425T070730
CREATED:20250904T203550Z
LAST-MODIFIED:20260106T221436Z
UID:10005769-1772127000-1772131500@www.pelham-library.net
SUMMARY:Yoga with Sara Coblyn
DESCRIPTION:Join us on Thursdays for an adult vinyassa style yoga class led by Sara Coblyn of Sweet Roots Gardens. Please bring a mat. No registration is needed and drop-ins are welcome!
URL:https://www.pelham-library.net/event/yoga-with-sara-coblyn-2/2026-02-26/
LOCATION:Pelham Library\, 2 South Valley Road \, Pelham\, MA\, 01002\, United States
CATEGORIES:Regular Event
ATTACH;FMTTYPE=image/jpeg:https://www.pelham-library.net/wp-content/uploads/2023/01/sara-coblyn-yoga-scaled.jpg
END:VEVENT
BEGIN:VEVENT
DTSTART;TZID=America/New_York:20260227T103000
DTEND;TZID=America/New_York:20260227T113000
DTSTAMP:20260425T070730
CREATED:20250902T211805Z
LAST-MODIFIED:20251218T225542Z
UID:10005820-1772188200-1772191800@www.pelham-library.net
SUMMARY:Playgroup & Storytime
DESCRIPTION:Bring your little one and join Caylin\, our playgroup coordinator\, for storytime and fun! This event\, sponsored by CES\, is open to all parents and caregivers of children from birth-5 and their little ones.
URL:https://www.pelham-library.net/event/playgroup-storytime-2/2026-02-27/
LOCATION:Pelham Library\, 2 South Valley Road \, Pelham\, MA\, 01002\, United States
ATTACH;FMTTYPE=image/jpeg:https://www.pelham-library.net/wp-content/uploads/2025/09/caylin.jpg
END:VEVENT
BEGIN:VEVENT
DTSTART;TZID=America/New_York:20260228T101500
DTEND;TZID=America/New_York:20260228T113000
DTSTAMP:20260425T070730
CREATED:20260115T215837Z
LAST-MODIFIED:20260207T150517Z
UID:10005874-1772273700-1772278200@www.pelham-library.net
SUMMARY:Qigong with Rema Boscov
DESCRIPTION:Qigong (pronounced chee gong)\, an ancient energy art\, is the precursor to Tai Chi\, with a focus on health and healing. The movements\, sometimes described as moving meditation\, are simple\, graceful\, and easy to learn. Wear comfortable shoes and clothing. No mats are needed. The class\, taught by Rema Boscov\, is open to all adults and teens\, and all abilities are welcome.
URL:https://www.pelham-library.net/event/qigong-with-rema-boscov-3-2-2-2/2026-02-28/
LOCATION:Pelham Library\, 2 South Valley Road \, Pelham\, MA\, 01002\, United States
ATTACH;FMTTYPE=image/jpeg:https://www.pelham-library.net/wp-content/uploads/2022/04/rema-white-bell-flowers.jpg
END:VEVENT
BEGIN:VEVENT
DTSTART;TZID=America/New_York:20260228T123000
DTEND;TZID=America/New_York:20260228T140000
DTSTAMP:20260425T070730
CREATED:20260206T172240Z
LAST-MODIFIED:20260206T172240Z
UID:10006047-1772281800-1772287200@www.pelham-library.net
SUMMARY:The Amazing Story of Armored Mud Balls with Professor Richard Little
DESCRIPTION:Franklin County is home to Jurassic Armored Mud Balls\, one of the rarest sedimentary rock structures on the planet. In fact\, it’s the only place in the world where you can easily see\, touch and study these geological oddities. Prof. Little\, the discoverer of these intriguing features\, will explain how he found them\, how they form and why they are so rare.  \nThe Armored Mud Ball saga is a story of plate tectonics\, floods\, climate change and other geological events. It’s also a human story of the birth of a suspension bridge\, the death of a bowling alley and a fortuitous field trip picnic! After the program\, see if you agree with Prof. Little that Jurassic Mud Balls are important enough to become an official Massachusetts State “Sedimentary Structure!”
URL:https://www.pelham-library.net/event/the-amazing-story-of-armored-mud-balls-with-professor-richard-little/
LOCATION:Pelham Library\, 2 South Valley Road \, Pelham\, MA\, 01002\, United States
ATTACH;FMTTYPE=image/jpeg:https://www.pelham-library.net/wp-content/uploads/2026/01/Armored-mudball.jpg
END:VEVENT
END:VCALENDAR