BEGIN:VCALENDAR
VERSION:2.0
PRODID:-//Pelham Library - ECPv6.15.20//NONSGML v1.0//EN
CALSCALE:GREGORIAN
METHOD:PUBLISH
X-ORIGINAL-URL:https://www.pelham-library.net
X-WR-CALDESC:Events for Pelham Library
REFRESH-INTERVAL;VALUE=DURATION:PT1H
X-Robots-Tag:noindex
X-PUBLISHED-TTL:PT1H
BEGIN:VTIMEZONE
TZID:America/New_York
BEGIN:DAYLIGHT
TZOFFSETFROM:-0500
TZOFFSETTO:-0400
TZNAME:EDT
DTSTART:20250309T070000
END:DAYLIGHT
BEGIN:STANDARD
TZOFFSETFROM:-0400
TZOFFSETTO:-0500
TZNAME:EST
DTSTART:20251102T060000
END:STANDARD
BEGIN:DAYLIGHT
TZOFFSETFROM:-0500
TZOFFSETTO:-0400
TZNAME:EDT
DTSTART:20260308T070000
END:DAYLIGHT
BEGIN:STANDARD
TZOFFSETFROM:-0400
TZOFFSETTO:-0500
TZNAME:EST
DTSTART:20261101T060000
END:STANDARD
BEGIN:DAYLIGHT
TZOFFSETFROM:-0500
TZOFFSETTO:-0400
TZNAME:EDT
DTSTART:20270314T070000
END:DAYLIGHT
BEGIN:STANDARD
TZOFFSETFROM:-0400
TZOFFSETTO:-0500
TZNAME:EST
DTSTART:20271107T060000
END:STANDARD
END:VTIMEZONE
BEGIN:VEVENT
DTSTART;TZID=America/New_York:20260406T103000
DTEND;TZID=America/New_York:20260406T111500
DTSTAMP:20260424T023219
CREATED:20250827T192944Z
LAST-MODIFIED:20260125T061824Z
UID:10005847-1775471400-1775474100@www.pelham-library.net
SUMMARY:Music for Little Ones with Wendy Plummer (yes\, it's outside of regular library hours)
DESCRIPTION:Join Wendy for songs and fingerplays on Monday mornings when you’ll have the library all to yourselves! This event is open to all parents and caregivers of infants\, toddlers and preschoolers and their little ones. PLEASE NOTE: This event occurs outside of regular library hours
URL:https://www.pelham-library.net/event/music-for-little-ones-with-wendy-plummer-8-copy-2-2/2026-04-06/
LOCATION:MA
CATEGORIES:Regular Event
ATTACH;FMTTYPE=image/jpeg:https://www.pelham-library.net/wp-content/uploads/2025/06/IMG_0335-scaled.jpg
END:VEVENT
BEGIN:VEVENT
DTSTART;TZID=America/New_York:20260406T170000
DTEND;TZID=America/New_York:20260406T190000
DTSTAMP:20260424T023220
CREATED:20260125T062712Z
LAST-MODIFIED:20260125T062712Z
UID:10005994-1775494800-1775502000@www.pelham-library.net
SUMMARY:D&D for Neurodiverse Young Adults
DESCRIPTION:This weekly Dungeons & Dragons game is run by and for autistic and similarly neurodivergent young adults (post-high school age). The group is currently full\, but if you’re interested in joining get in touch and we’ll let you know when space is available. Participants are invited to come for an informal hang-out starting at 3:00. The game starts at 5.
URL:https://www.pelham-library.net/event/dd-for-neurodiverse-young-adults-2/2026-04-06/
LOCATION:Pelham Library\, 2 South Valley Road \, Pelham\, MA\, 01002\, United States
ATTACH;FMTTYPE=image/jpeg:https://www.pelham-library.net/wp-content/uploads/2024/03/d20-neurodivergent.jpg
END:VEVENT
BEGIN:VEVENT
DTSTART;TZID=America/New_York:20260408T080000
DTEND;TZID=America/New_York:20260408T170000
DTSTAMP:20260424T023220
CREATED:20251216T040347Z
LAST-MODIFIED:20251216T040904Z
UID:10005859-1775635200-1775667600@www.pelham-library.net
SUMMARY:Teen/Tween Dungeons & Dragons (currently FULL)
DESCRIPTION:Teens & Tweens Only! This program is currently FULL. Please call or email if you’re interested in joining the waitlist for our campaign led by Dungeon Master Tony Page.
URL:https://www.pelham-library.net/event/teen-tween-dungeons-dragons-currently-full-2/2026-04-08/
LOCATION:Pelham Library\, 2 South Valley Road \, Pelham\, MA\, 01002\, United States
CATEGORIES:Regular Event
ATTACH;FMTTYPE=image/jpeg:https://www.pelham-library.net/wp-content/uploads/2023/01/dnd.jpg
END:VEVENT
BEGIN:VEVENT
DTSTART;TZID=America/New_York:20260409T173000
DTEND;TZID=America/New_York:20260409T184500
DTSTAMP:20260424T023220
CREATED:20250904T203550Z
LAST-MODIFIED:20260106T221436Z
UID:10005775-1775755800-1775760300@www.pelham-library.net
SUMMARY:Yoga with Sara Coblyn
DESCRIPTION:Join us on Thursdays for an adult vinyassa style yoga class led by Sara Coblyn of Sweet Roots Gardens. Please bring a mat. No registration is needed and drop-ins are welcome!
URL:https://www.pelham-library.net/event/yoga-with-sara-coblyn-2/2026-04-09/
LOCATION:Pelham Library\, 2 South Valley Road \, Pelham\, MA\, 01002\, United States
CATEGORIES:Regular Event
ATTACH;FMTTYPE=image/jpeg:https://www.pelham-library.net/wp-content/uploads/2023/01/sara-coblyn-yoga-scaled.jpg
END:VEVENT
BEGIN:VEVENT
DTSTART;TZID=America/New_York:20260410T103000
DTEND;TZID=America/New_York:20260410T113000
DTSTAMP:20260424T023220
CREATED:20250902T211805Z
LAST-MODIFIED:20251218T225542Z
UID:10005826-1775817000-1775820600@www.pelham-library.net
SUMMARY:Playgroup & Storytime
DESCRIPTION:Bring your little one and join Caylin\, our playgroup coordinator\, for storytime and fun! This event\, sponsored by CES\, is open to all parents and caregivers of children from birth-5 and their little ones.
URL:https://www.pelham-library.net/event/playgroup-storytime-2/2026-04-10/
LOCATION:Pelham Library\, 2 South Valley Road \, Pelham\, MA\, 01002\, United States
ATTACH;FMTTYPE=image/jpeg:https://www.pelham-library.net/wp-content/uploads/2025/09/caylin.jpg
END:VEVENT
BEGIN:VEVENT
DTSTART;TZID=America/New_York:20260411T101500
DTEND;TZID=America/New_York:20260411T113000
DTSTAMP:20260424T023220
CREATED:20260115T215837Z
LAST-MODIFIED:20260207T150517Z
UID:10005880-1775902500-1775907000@www.pelham-library.net
SUMMARY:Qigong with Rema Boscov
DESCRIPTION:Qigong (pronounced chee gong)\, an ancient energy art\, is the precursor to Tai Chi\, with a focus on health and healing. The movements\, sometimes described as moving meditation\, are simple\, graceful\, and easy to learn. Wear comfortable shoes and clothing. No mats are needed. The class\, taught by Rema Boscov\, is open to all adults and teens\, and all abilities are welcome.
URL:https://www.pelham-library.net/event/qigong-with-rema-boscov-3-2-2-2/2026-04-11/
LOCATION:Pelham Library\, 2 South Valley Road \, Pelham\, MA\, 01002\, United States
ATTACH;FMTTYPE=image/jpeg:https://www.pelham-library.net/wp-content/uploads/2022/04/rema-white-bell-flowers.jpg
END:VEVENT
BEGIN:VEVENT
DTSTART;TZID=America/New_York:20260411T120000
DTEND;TZID=America/New_York:20260411T140000
DTSTAMP:20260424T023220
CREATED:20260319T192232Z
LAST-MODIFIED:20260319T192232Z
UID:10006060-1775908800-1775916000@www.pelham-library.net
SUMMARY:Nature Journaling Workshop
DESCRIPTION:Acquaint yourself with the natural world through a slow drawing and writing process. We unknowingly pass by so much beauty every day. Join our Nature Journaling Workshop and learn techniques to notice outdoor wonders that might otherwise be missed. \nThis workshop\, geared for adults and teens\, is co-sponsored with the Kestrel Trust. Space is limited and registration is required. Register at KestrelTrust.org/connect/events \n 
URL:https://www.pelham-library.net/event/nature-journaling-workshop/
LOCATION:Pelham Library\, 2 South Valley Road \, Pelham\, MA\, 01002\, United States
ATTACH;FMTTYPE=image/jpeg:https://www.pelham-library.net/wp-content/uploads/2026/03/Nature-Journal-Cropped.jpg
END:VEVENT
END:VCALENDAR