BEGIN:VCALENDAR
VERSION:2.0
PRODID:-//Pelham Library - ECPv6.15.20//NONSGML v1.0//EN
CALSCALE:GREGORIAN
METHOD:PUBLISH
X-ORIGINAL-URL:https://www.pelham-library.net
X-WR-CALDESC:Events for Pelham Library
REFRESH-INTERVAL;VALUE=DURATION:PT1H
X-Robots-Tag:noindex
X-PUBLISHED-TTL:PT1H
BEGIN:VTIMEZONE
TZID:America/New_York
BEGIN:DAYLIGHT
TZOFFSETFROM:-0500
TZOFFSETTO:-0400
TZNAME:EDT
DTSTART:20250309T070000
END:DAYLIGHT
BEGIN:STANDARD
TZOFFSETFROM:-0400
TZOFFSETTO:-0500
TZNAME:EST
DTSTART:20251102T060000
END:STANDARD
BEGIN:DAYLIGHT
TZOFFSETFROM:-0500
TZOFFSETTO:-0400
TZNAME:EDT
DTSTART:20260308T070000
END:DAYLIGHT
BEGIN:STANDARD
TZOFFSETFROM:-0400
TZOFFSETTO:-0500
TZNAME:EST
DTSTART:20261101T060000
END:STANDARD
BEGIN:DAYLIGHT
TZOFFSETFROM:-0500
TZOFFSETTO:-0400
TZNAME:EDT
DTSTART:20270314T070000
END:DAYLIGHT
BEGIN:STANDARD
TZOFFSETFROM:-0400
TZOFFSETTO:-0500
TZNAME:EST
DTSTART:20271107T060000
END:STANDARD
END:VTIMEZONE
BEGIN:VEVENT
DTSTART;TZID=America/New_York:20260527T080000
DTEND;TZID=America/New_York:20260527T170000
DTSTAMP:20260424T233054
CREATED:20251216T040347Z
LAST-MODIFIED:20251216T040904Z
UID:10005862-1779868800-1779901200@www.pelham-library.net
SUMMARY:Teen/Tween Dungeons & Dragons (currently FULL)
DESCRIPTION:Teens & Tweens Only! This program is currently FULL. Please call or email if you’re interested in joining the waitlist for our campaign led by Dungeon Master Tony Page.
URL:https://www.pelham-library.net/event/teen-tween-dungeons-dragons-currently-full-2/2026-05-27/
LOCATION:Pelham Library\, 2 South Valley Road \, Pelham\, MA\, 01002\, United States
CATEGORIES:Regular Event
ATTACH;FMTTYPE=image/jpeg:https://www.pelham-library.net/wp-content/uploads/2023/01/dnd.jpg
END:VEVENT
BEGIN:VEVENT
DTSTART;TZID=America/New_York:20260528T173000
DTEND;TZID=America/New_York:20260528T184500
DTSTAMP:20260424T233054
CREATED:20250904T203550Z
LAST-MODIFIED:20260106T221436Z
UID:10005782-1779989400-1779993900@www.pelham-library.net
SUMMARY:Yoga with Sara Coblyn
DESCRIPTION:Join us on Thursdays for an adult vinyassa style yoga class led by Sara Coblyn of Sweet Roots Gardens. Please bring a mat. No registration is needed and drop-ins are welcome!
URL:https://www.pelham-library.net/event/yoga-with-sara-coblyn-2/2026-05-28/
LOCATION:Pelham Library\, 2 South Valley Road \, Pelham\, MA\, 01002\, United States
CATEGORIES:Regular Event
ATTACH;FMTTYPE=image/jpeg:https://www.pelham-library.net/wp-content/uploads/2023/01/sara-coblyn-yoga-scaled.jpg
END:VEVENT
BEGIN:VEVENT
DTSTART;TZID=America/New_York:20260529T103000
DTEND;TZID=America/New_York:20260529T113000
DTSTAMP:20260424T233054
CREATED:20250902T211805Z
LAST-MODIFIED:20251218T225542Z
UID:10005833-1780050600-1780054200@www.pelham-library.net
SUMMARY:Playgroup & Storytime
DESCRIPTION:Bring your little one and join Caylin\, our playgroup coordinator\, for storytime and fun! This event\, sponsored by CES\, is open to all parents and caregivers of children from birth-5 and their little ones.
URL:https://www.pelham-library.net/event/playgroup-storytime-2/2026-05-29/
LOCATION:Pelham Library\, 2 South Valley Road \, Pelham\, MA\, 01002\, United States
ATTACH;FMTTYPE=image/jpeg:https://www.pelham-library.net/wp-content/uploads/2025/09/caylin.jpg
END:VEVENT
BEGIN:VEVENT
DTSTART;TZID=America/New_York:20260530T101500
DTEND;TZID=America/New_York:20260530T113000
DTSTAMP:20260424T233054
CREATED:20260115T215837Z
LAST-MODIFIED:20260207T150517Z
UID:10005887-1780136100-1780140600@www.pelham-library.net
SUMMARY:Qigong with Rema Boscov
DESCRIPTION:Qigong (pronounced chee gong)\, an ancient energy art\, is the precursor to Tai Chi\, with a focus on health and healing. The movements\, sometimes described as moving meditation\, are simple\, graceful\, and easy to learn. Wear comfortable shoes and clothing. No mats are needed. The class\, taught by Rema Boscov\, is open to all adults and teens\, and all abilities are welcome.
URL:https://www.pelham-library.net/event/qigong-with-rema-boscov-3-2-2-2/2026-05-30/
LOCATION:Pelham Library\, 2 South Valley Road \, Pelham\, MA\, 01002\, United States
ATTACH;FMTTYPE=image/jpeg:https://www.pelham-library.net/wp-content/uploads/2022/04/rema-white-bell-flowers.jpg
END:VEVENT
END:VCALENDAR