BEGIN:VCALENDAR
VERSION:2.0
PRODID:-//Pelham Library - ECPv6.15.20//NONSGML v1.0//EN
CALSCALE:GREGORIAN
METHOD:PUBLISH
X-ORIGINAL-URL:https://www.pelham-library.net
X-WR-CALDESC:Events for Pelham Library
REFRESH-INTERVAL;VALUE=DURATION:PT1H
X-Robots-Tag:noindex
X-PUBLISHED-TTL:PT1H
BEGIN:VTIMEZONE
TZID:America/New_York
BEGIN:DAYLIGHT
TZOFFSETFROM:-0500
TZOFFSETTO:-0400
TZNAME:EDT
DTSTART:20250309T070000
END:DAYLIGHT
BEGIN:STANDARD
TZOFFSETFROM:-0400
TZOFFSETTO:-0500
TZNAME:EST
DTSTART:20251102T060000
END:STANDARD
BEGIN:DAYLIGHT
TZOFFSETFROM:-0500
TZOFFSETTO:-0400
TZNAME:EDT
DTSTART:20260308T070000
END:DAYLIGHT
BEGIN:STANDARD
TZOFFSETFROM:-0400
TZOFFSETTO:-0500
TZNAME:EST
DTSTART:20261101T060000
END:STANDARD
BEGIN:DAYLIGHT
TZOFFSETFROM:-0500
TZOFFSETTO:-0400
TZNAME:EDT
DTSTART:20270314T070000
END:DAYLIGHT
BEGIN:STANDARD
TZOFFSETFROM:-0400
TZOFFSETTO:-0500
TZNAME:EST
DTSTART:20271107T060000
END:STANDARD
END:VTIMEZONE
BEGIN:VEVENT
DTSTART;TZID=America/New_York:20260601T170000
DTEND;TZID=America/New_York:20260601T190000
DTSTAMP:20260424T124312
CREATED:20260125T062712Z
LAST-MODIFIED:20260125T062712Z
UID:10006000-1780333200-1780340400@www.pelham-library.net
SUMMARY:D&D for Neurodiverse Young Adults
DESCRIPTION:This weekly Dungeons & Dragons game is run by and for autistic and similarly neurodivergent young adults (post-high school age). The group is currently full\, but if you’re interested in joining get in touch and we’ll let you know when space is available. Participants are invited to come for an informal hang-out starting at 3:00. The game starts at 5.
URL:https://www.pelham-library.net/event/dd-for-neurodiverse-young-adults-2/2026-06-01/
LOCATION:Pelham Library\, 2 South Valley Road \, Pelham\, MA\, 01002\, United States
ATTACH;FMTTYPE=image/jpeg:https://www.pelham-library.net/wp-content/uploads/2024/03/d20-neurodivergent.jpg
END:VEVENT
BEGIN:VEVENT
DTSTART;TZID=America/New_York:20260606T101500
DTEND;TZID=America/New_York:20260606T113000
DTSTAMP:20260424T124312
CREATED:20260115T215837Z
LAST-MODIFIED:20260207T150517Z
UID:10005888-1780740900-1780745400@www.pelham-library.net
SUMMARY:Qigong with Rema Boscov
DESCRIPTION:Qigong (pronounced chee gong)\, an ancient energy art\, is the precursor to Tai Chi\, with a focus on health and healing. The movements\, sometimes described as moving meditation\, are simple\, graceful\, and easy to learn. Wear comfortable shoes and clothing. No mats are needed. The class\, taught by Rema Boscov\, is open to all adults and teens\, and all abilities are welcome.
URL:https://www.pelham-library.net/event/qigong-with-rema-boscov-3-2-2-2/2026-06-06/
LOCATION:Pelham Library\, 2 South Valley Road \, Pelham\, MA\, 01002\, United States
ATTACH;FMTTYPE=image/jpeg:https://www.pelham-library.net/wp-content/uploads/2022/04/rema-white-bell-flowers.jpg
END:VEVENT
END:VCALENDAR